Workbook

Sheet Overview
A1: Source des données | B1: repli sur RAW embarqué (copie figée du HTML)
A2: Total RAW (formule) | B2: =COUNTA(History!A2:A152) -> 151
A4: Statistiques de référence "DB" | B4: (figées, "hardcoded from Excel" — utilisées UNIQUEMENT par KPI, jamais par le nettoyage)
A6: Catégorie | B6: n | C6: Durée (mois) — moy | D6: Effort (mxy) — moy | E6: Révisions (nb) — moy | F6: Coût (k€) — moy | G6: Durée (mois) — ét | H6: Effort (mxy) — ét | I6: Révisions (nb) — ét | J6: Coût (k€) — ét
A7: 1st in family | B7: 27 | C7: 47.3 | D7: 14.64 | E7: 3.85 | F7: 4078 | G7: 13.53 | H7: 7.98 | I7: 1.06 | J7: 1038
A8: Innovative | B8: 70 | C8: 36.67 | D8: 7.21 | E8: 3.06 | F8: 2469 | G8: 12 | H8: 6.32 | I8: 1.09 | J8: 959
A9: Follower | B9: 79 | C9: 25.52 | D9: 1.8 | E9: 2.14 | F9: 1309 | G9: 14.88 | H9: 2.08 | I9: 1.26 | J9: 270
A11: Ces stats DB sont distinctes des stats nettoyées en direct (onglet History) — même distinction que le HTML (DB vs getBy()/DB_DYN).

Sheet History
A1: id | B1: complexité (brute) | C1: durée (mois) | D1: complexité (normalisée) | E1: durée si positive | F1: nettoyée (globale) | G1: nettoyée — 1st in family | H1: nettoyée — Innovative | I1: nettoyée — Follower
A2: 1 | B2: Innovative | C2: 32.1 | D2: =IF(LOWER(TRIM(B2))="1st in family","1st in family",IF(LOWER(TRIM(B2))="innovative","Innovative",IF(LOWER(TRIM(B2))="follower","Follower",""))) -> Innovative | E2: =IF(C2>0,C2,"") -> 32.1 | F2: =IF(AND(C2>0,C2>=$B$163,C2<=$B$162),C2,"") -> 32.1 | G2: =IF($D2="1st in family",$F2,"") | H2: =IF($D2="Innovative",$F2,"") -> 32.1 | I2: =IF($D2="Follower",$F2,"")
A3: 2 | B3: follower | C3: 29.52 | D3: =IF(LOWER(TRIM(B3))="1st in family","1st in family",IF(LOWER(TRIM(B3))="innovative","Innovative",IF(LOWER(TRIM(B3))="follower","Follower",""))) -> Follower | E3: =IF(C3>0,C3,"") -> 29.52 | F3: =IF(AND(C3>0,C3>=$B$163,C3<=$B$162),C3,"") -> 29.52 | G3: =IF($D3="1st in family",$F3,"") | H3: =IF($D3="Innovative",$F3,"") | I3: =IF($D3="Follower",$F3,"") -> 29.52
A4: 3 | B4: follower | C4: 19.03 | D4: =IF(LOWER(TRIM(B4))="1st in family","1st in family",IF(LOWER(TRIM(B4))="innovative","Innovative",IF(LOWER(TRIM(B4))="follower","Follower",""))) -> Follower | E4: =IF(C4>0,C4,"") -> 19.03 | F4: =IF(AND(C4>0,C4>=$B$163,C4<=$B$162),C4,"") -> 19.03 | G4: =IF($D4="1st in family",$F4,"") | H4: =IF($D4="Innovative",$F4,"") | I4: =IF($D4="Follower",$F4,"") -> 19.03
A5: 4 | B5: follower | C5: 21.61 | D5: =IF(LOWER(TRIM(B5))="1st in family","1st in family",IF(LOWER(TRIM(B5))="innovative","Innovative",IF(LOWER(TRIM(B5))="follower","Follower",""))) -> Follower | E5: =IF(C5>0,C5,"") -> 21.61 | F5: =IF(AND(C5>0,C5>=$B$163,C5<=$B$162),C5,"") -> 21.61 | G5: =IF($D5="1st in family",$F5,"") | H5: =IF($D5="Innovative",$F5,"") | I5: =IF($D5="Follower",$F5,"") -> 21.61
A6: 5 | B6: Innovative | C6: 18.9 | D6: =IF(LOWER(TRIM(B6))="1st in family","1st in family",IF(LOWER(TRIM(B6))="innovative","Innovative",IF(LOWER(TRIM(B6))="follower","Follower",""))) -> Innovative | E6: =IF(C6>0,C6,"") -> 18.9 | F6: =IF(AND(C6>0,C6>=$B$163,C6<=$B$162),C6,"") -> 18.9 | G6: =IF($D6="1st in family",$F6,"") | H6: =IF($D6="Innovative",$F6,"") -> 18.9 | I6: =IF($D6="Follower",$F6,"")
A7: 6 | B7: follower | C7: 8.32 | D7: =IF(LOWER(TRIM(B7))="1st in family","1st in family",IF(LOWER(TRIM(B7))="innovative","Innovative",IF(LOWER(TRIM(B7))="follower","Follower",""))) -> Follower | E7: =IF(C7>0,C7,"") -> 8.32 | F7: =IF(AND(C7>0,C7>=$B$163,C7<=$B$162),C7,"") -> 8.32 | G7: =IF($D7="1st in family",$F7,"") | H7: =IF($D7="Innovative",$F7,"") | I7: =IF($D7="Follower",$F7,"") -> 8.32
A8: 7 | B8: follower | C8: 39.87 | D8: =IF(LOWER(TRIM(B8))="1st in family","1st in family",IF(LOWER(TRIM(B8))="innovative","Innovative",IF(LOWER(TRIM(B8))="follower","Follower",""))) -> Follower | E8: =IF(C8>0,C8,"") -> 39.87 | F8: =IF(AND(C8>0,C8>=$B$163,C8<=$B$162),C8,"") -> 39.87 | G8: =IF($D8="1st in family",$F8,"") | H8: =IF($D8="Innovative",$F8,"") | I8: =IF($D8="Follower",$F8,"") -> 39.87
A9: 8 | B9: follower | C9: 51.52 | D9: =IF(LOWER(TRIM(B9))="1st in family","1st in family",IF(LOWER(TRIM(B9))="innovative","Innovative",IF(LOWER(TRIM(B9))="follower","Follower",""))) -> Follower | E9: =IF(C9>0,C9,"") -> 51.52 | F9: =IF(AND(C9>0,C9>=$B$163,C9<=$B$162),C9,"") -> 51.52 | G9: =IF($D9="1st in family",$F9,"") | H9: =IF($D9="Innovative",$F9,"") | I9: =IF($D9="Follower",$F9,"") -> 51.52
A10: 9 | B10: follower | C10: 49.06 | D10: =IF(LOWER(TRIM(B10))="1st in family","1st in family",IF(LOWER(TRIM(B10))="innovative","Innovative",IF(LOWER(TRIM(B10))="follower","Follower",""))) -> Follower | E10: =IF(C10>0,C10,"") -> 49.06 | F10: =IF(AND(C10>0,C10>=$B$163,C10<=$B$162),C10,"") -> 49.06 | G10: =IF($D10="1st in family",$F10,"") | H10: =IF($D10="Innovative",$F10,"") | I10: =IF($D10="Follower",$F10,"") -> 49.06
A11: 10 | B11: Innovative | C11: 31.94 | D11: =IF(LOWER(TRIM(B11))="1st in family","1st in family",IF(LOWER(TRIM(B11))="innovative","Innovative",IF(LOWER(TRIM(B11))="follower","Follower",""))) -> Innovative | E11: =IF(C11>0,C11,"") -> 31.94 | F11: =IF(AND(C11>0,C11>=$B$163,C11<=$B$162),C11,"") -> 31.94 | G11: =IF($D11="1st in family",$F11,"") | H11: =IF($D11="Innovative",$F11,"") -> 31.94 | I11: =IF($D11="Follower",$F11,"")
A12: 11 | B12: follower | C12: 25.06 | D12: =IF(LOWER(TRIM(B12))="1st in family","1st in family",IF(LOWER(TRIM(B12))="innovative","Innovative",IF(LOWER(TRIM(B12))="follower","Follower",""))) -> Follower | E12: =IF(C12>0,C12,"") -> 25.06 | F12: =IF(AND(C12>0,C12>=$B$163,C12<=$B$162),C12,"") -> 25.06 | G12: =IF($D12="1st in family",$F12,"") | H12: =IF($D12="Innovative",$F12,"") | I12: =IF($D12="Follower",$F12,"") -> 25.06
A13: 12 | B13: Innovative | C13: 26.61 | D13: =IF(LOWER(TRIM(B13))="1st in family","1st in family",IF(LOWER(TRIM(B13))="innovative","Innovative",IF(LOWER(TRIM(B13))="follower","Follower",""))) -> Innovative | E13: =IF(C13>0,C13,"") -> 26.61 | F13: =IF(AND(C13>0,C13>=$B$163,C13<=$B$162),C13,"") -> 26.61 | G13: =IF($D13="1st in family",$F13,"") | H13: =IF($D13="Innovative",$F13,"") -> 26.61 | I13: =IF($D13="Follower",$F13,"")
... A152: 152 | B152: 1st in family | C152: 52.71 | D152: =IF(LOWER(TRIM(B152))="1st in family","1st in family",IF(LOWER(TRIM(B152))="innovative","Innovative",IF(LOWER(TRIM(B152))="follower","Follower",""))) -> 1st in family | E152: =IF(C152>0,C152,"") -> 52.71 | F152: =IF(AND(C152>0,C152>=$B$163,C152<=$B$162),C152,"") -> 52.71 | G152: =IF($D152="1st in family",$F152,"") -> 52.71 | H152: =IF($D152="Innovative",$F152,"") | I152: =IF($D152="Follower",$F152,"")
A155: Seuil IQR (k) | B155: 2.5
A156: Valeur par défaut du dashboard (k=2.5, PAS 1.5 malgré le texte narratif affiché) — modifiable ici, recalcule tout l'onglet. Nettoyage GLOBAL sur les 151 durées positives, pas par classe (contrairement à Prévision logistique/MEDFRET).
A158: n (durées positives) | B158: =COUNT(E2:E152) -> 150
A159: Q1 (rang, 0-indexé comme le JS) | B159: =SMALL(E2:E152,INT(B158*0.25)+1) -> 19.77
A160: Q3 (rang) | B160: =SMALL(E2:E152,INT(B158*0.75)+1) -> 43.2
A161: IQR | B161: =B160-B159 -> 23.43
A162: Borne haute | B162: =B160+$B$155*B161 -> 101.775
A163: Borne basse | B163: =MAX(0,B159-$B$155*B161) -> 0
A165: Catégorie | B165: n | C165: Moyenne | D165: Écart-type | E165: Médiane | F165: Min | G165: Max | H165: Spread (ét/moy) | I165: Marge (±) | J165: P68 | K165: P95 | L165: P99
A166: 1st in family | B166: =COUNT(G2:G152) -> 21 | C166: =AVERAGE(G2:G152) -> 48.158571 | D166: =STDEV(G2:G152) -> 13.880183 | E166: =MEDIAN(G2:G152) -> 45.06 | F166: =MIN(G2:G152) -> 32.03 | G166: =MAX(G2:G152) -> 87.16 | H166: =D166/C166 -> 0.28821834 | I166: =(1.96*D166/SQRT(B166))/C166 -> 0.12327302 | J166: =C166+D166 -> 62.038755 | K166: =C166+2*D166 -> 75.918938 | L166: =C166+3*D166 -> 89.799122
A167: Innovative | B167: =COUNT(H2:H152) -> 57 | C167: =AVERAGE(H2:H152) -> 36.345088 | D167: =STDEV(H2:H152) -> 12.584526 | E167: =MEDIAN(H2:H152) -> 33.32 | F167: =MIN(H2:H152) -> 15.16 | G167: =MAX(H2:H152) -> 68.74 | H167: =D167/C167 -> 0.34625108 | I167: =(1.96*D167/SQRT(B167))/C167 -> 0.089889668 | J167: =C167+D167 -> 48.929614 | K167: =C167+2*D167 -> 61.514139 | L167: =C167+3*D167 -> 74.098665
A168: Follower | B168: =COUNT(I2:I152) -> 71 | C168: =AVERAGE(I2:I152) -> 24.654648 | D168: =STDEV(I2:I152) -> 15.106625 | E168: =MEDIAN(I2:I152) -> 20.58 | F168: =MIN(I2:I152) -> 5.16 | G168: =MAX(I2:I152) -> 72.23 | H168: =D168/C168 -> 0.61272931 | I168: =(1.96*D168/SQRT(B168))/C168 -> 0.14252648 | J168: =C168+D168 -> 39.761273 | K168: =C168+2*D168 -> 54.867899 | L168: =C168+3*D168 -> 69.974524

Sheet Distributions
A1: Paramètres des 6 lois calculés en formules FERMÉES (méthode des moments) à partir des statistiques nettoyées de l'onglet History — vivants (pas des valeurs figées), contrairement à MEDFRET où seul le fichier source externe avait ces paramètres (via Solver, non reproductible). Grille CDF à 60 points (comme fitDists(), JS).
T2: =IF(AND(History!G2<>"",History!G2>0),LN(History!G2),"") | U2: =IF(AND(History!H2<>"",History!H2>0),LN(History!H2),"") -> 3.468856 | V2: =IF(AND(History!I2<>"",History!I2>0),LN(History!I2),"")
A3: Catégorie : 1st in family | T3: =IF(AND(History!G3<>"",History!G3>0),LN(History!G3),"") | U3: =IF(AND(History!H3<>"",History!H3>0),LN(History!H3),"") | V3: =IF(AND(History!I3<>"",History!I3>0),LN(History!I3),"") -> 3.385068
A4: Loi | B4: Param 1 | C4: Param 2 | D4: SSE (vivant) | E4: Meilleur (HTML, vivant) ? | T4: =IF(AND(History!G4<>"",History!G4>0),LN(History!G4),"") | U4: =IF(AND(History!H4<>"",History!H4>0),LN(History!H4),"") | V4: =IF(AND(History!I4<>"",History!I4>0),LN(History!I4),"") -> 2.9460167
A5: Gaussian | B5: =History!C166 -> 48.158571 | C5: =History!D166 -> 13.880183 | D5: =SUMPRODUCT((C13:C72-B13:B72)^2)/60 -> 0.0049154688 | E5: =IF(D5=MIN(D5,D6,D7,D8,D9,D10),"★ Meilleur (recalculé)","") | T5: =IF(AND(History!G5<>"",History!G5>0),LN(History!G5),"") | U5: =IF(AND(History!H5<>"",History!H5>0),LN(History!H5),"") | V5: =IF(AND(History!I5<>"",History!I5>0),LN(History!I5),"") -> 3.0731562
A6: Log-Normal | B6: =AVERAGE(T2:T152) -> 3.840048 | C6: =STDEV(T2:T152) -> 0.26088312 | D6: =SUMPRODUCT((D13:D72-B13:B72)^2)/60 -> 0.0025610937 | E6: =IF(D6=MIN(D5,D6,D7,D8,D9,D10),"★ Meilleur (recalculé)","") -> ★ Meilleur (recalculé) | T6: =IF(AND(History!G6<>"",History!G6>0),LN(History!G6),"") | U6: =IF(AND(History!H6<>"",History!H6>0),LN(History!H6),"") -> 2.9391619 | V6: =IF(AND(History!I6<>"",History!I6>0),LN(History!I6),"")
A7: Weibull | B7: =MAX(0.5,(History!C166/History!D166)^1.086) -> 3.8613781 | C7: =History!C166/EXP(GAMMALN(1+1/B7)) -> 53.237566 | D7: =SUMPRODUCT((E13:E72-B13:B72)^2)/60 -> 0.005441991 | E7: =IF(D7=MIN(D5,D6,D7,D8,D9,D10),"★ Meilleur (recalculé)","") | T7: =IF(AND(History!G7<>"",History!G7>0),LN(History!G7),"") | U7: =IF(AND(History!H7<>"",History!H7>0),LN(History!H7),"") | V7: =IF(AND(History!I7<>"",History!I7>0),LN(History!I7),"") -> 2.1186623
A8: Gamma | B8: =History!C166^2/(History!D166^2) -> 12.038068 | C8: =(History!D166^2)/History!C166 -> 4.0005234 | D8: =SUMPRODUCT((F13:F72-B13:B72)^2)/60 -> 0.0029616609 | E8: =IF(D8=MIN(D5,D6,D7,D8,D9,D10),"★ Meilleur (recalculé)","") | T8: =IF(AND(History!G8<>"",History!G8>0),LN(History!G8),"") | U8: =IF(AND(History!H8<>"",History!H8>0),LN(History!H8),"") | V8: =IF(AND(History!I8<>"",History!I8>0),LN(History!I8),"") -> 3.6856242
A9: Poisson | B9: =MAX(0.1,History!C166) -> 48.158571 | D9: =SUMPRODUCT((G13:G72-B13:B72)^2)/60 -> 0.01307855 | E9: =IF(D9=MIN(D5,D6,D7,D8,D9,D10),"★ Meilleur (recalculé)","") | T9: =IF(AND(History!G9<>"",History!G9>0),LN(History!G9),"") | U9: =IF(AND(History!H9<>"",History!H9>0),LN(History!H9),"") | V9: =IF(AND(History!I9<>"",History!I9>0),LN(History!I9),"") -> 3.9419701
A10: Exponential | B10: =1/History!C166 -> 0.020764736 | D10: =SUMPRODUCT((H13:H72-B13:B72)^2)/60 -> 0.035413969 | E10: =IF(D10=MIN(D5,D6,D7,D8,D9,D10),"★ Meilleur (recalculé)","") | T10: =IF(AND(History!G10<>"",History!G10>0),LN(History!G10),"") | U10: =IF(AND(History!H10<>"",History!H10>0),LN(History!H10),"") | V10: =IF(AND(History!I10<>"",History!I10>0),LN(History!I10),"") -> 3.893044
T11: =IF(AND(History!G11<>"",History!G11>0),LN(History!G11),"") | U11: =IF(AND(History!H11<>"",History!H11>0),LN(History!H11),"") -> 3.4638591 | V11: =IF(AND(History!I11<>"",History!I11>0),LN(History!I11),"")
A12: X (mois) | B12: Empirique | C12: Gaussian | D12: Log-Normal | E12: Weibull | F12: Gamma | G12: Poisson | H12: Exponential | T12: =IF(AND(History!G12<>"",History!G12>0),LN(History!G12),"") | U12: =IF(AND(History!H12<>"",History!H12>0),LN(History!H12),"") | V12: =IF(AND(History!I12<>"",History!I12>0),LN(History!I12),"") -> 3.2212729
A13: =History!F166+(0)*(History!G166-History!F166)/59 -> 32.03 | B13: =COUNTIF(History!G2:'History'!G152,"<="&A13)/History!B166 -> 0.047619048 | C13: =NORMDIST(A13,$B$5,$C$5,TRUE) -> 0.12262068 | D13: =IF(A13>0,LOGNORMDIST(A13,$B$6,$C$6),0) -> 0.076186944 | E13: =IF(A13>0,WEIBULL(A13,$B$7,$C$7,TRUE),0) -> 0.13115145 | F13: =IF(A13>0,GAMMADIST(A13,$B$8,$C$8,TRUE),0) -> 0.11014198 | G13: =IF(A13>0,GAMMADIST(A13+0.5,$B$9,1,TRUE),0) -> 0.0061020236 | H13: =IF(A13>0,EXPONDIST(A13,$B$10,TRUE),0) -> 0.48577506 | T13: =IF(AND(History!G13<>"",History!G13>0),LN(History!G13),"") | U13: =IF(AND(History!H13<>"",History!H13>0),LN(History!H13),"") -> 3.2812871 | V13: =IF(AND(History!I13<>"",History!I13>0),LN(History!I13),"")
A14: =History!F166+(1)*(History!G166-History!F166)/59 -> 32.964407 | B14: =COUNTIF(History!G2:'History'!G152,"<="&A14)/History!B166 -> 0.047619048 | C14: =NORMDIST(A14,$B$5,$C$5,TRUE) -> 0.1368315 | D14: =IF(A14>0,LOGNORMDIST(A14,$B$6,$C$6),0) -> 0.093255162 | E14: =IF(A14>0,WEIBULL(A14,$B$7,$C$7,TRUE),0) -> 0.14537814 | F14: =IF(A14>0,GAMMADIST(A14,$B$8,$C$8,TRUE),0) -> 0.12754358 | G14: =IF(A14>0,GAMMADIST(A14+0.5,$B$9,1,TRUE),0) -> 0.0098414503 | H14: =IF(A14>0,EXPONDIST(A14,$B$10,TRUE),0) -> 0.49565624 | T14: =IF(AND(History!G14<>"",History!G14>0),LN(History!G14),"") -> 4.4677455 | U14: =IF(AND(History!H14<>"",History!H14>0),LN(History!H14),"") | V14: =IF(AND(History!I14<>"",History!I14>0),LN(History!I14),"")
A15: =History!F166+(2)*(History!G166-History!F166)/59 -> 33.898814 | B15: =COUNTIF(History!G2:'History'!G152,"<="&A15)/History!B166 -> 0.047619048 | C15: =NORMDIST(A15,$B$5,$C$5,TRUE) -> 0.15212867 | D15: =IF(A15>0,LOGNORMDIST(A15,$B$6,$C$6),0) -> 0.11240617 | E15: =IF(A15>0,WEIBULL(A15,$B$7,$C$7,TRUE),0) -> 0.16054356 | F15: =IF(A15>0,GAMMADIST(A15,$B$8,$C$8,TRUE),0) -> 0.14638126 | G15: =IF(A15>0,GAMMADIST(A15+0.5,$B$9,1,TRUE),0) -> 0.015317091 | H15: =IF(A15>0,EXPONDIST(A15,$B$10,TRUE),0) -> 0.50534756 | T15: =IF(AND(History!G15<>"",History!G15>0),LN(History!G15),"") | U15: =IF(AND(History!H15<>"",History!H15>0),LN(History!H15),"") | V15: =IF(AND(History!I15<>"",History!I15>0),LN(History!I15),"") -> 3.2812871
A16: =History!F166+(3)*(History!G166-History!F166)/59 -> 34.83322 | B16: =COUNTIF(History!G2:'History'!G152,"<="&A16)/History!B166 -> 0.047619048 | C16: =NORMDIST(A16,$B$5,$C$5,TRUE) -> 0.16852081 | D16: =IF(A16>0,LOGNORMDIST(A16,$B$6,$C$6),0) -> 0.13358527 | E16: =IF(A16>0,WEIBULL(A16,$B$7,$C$7,TRUE),0) -> 0.1766505 | F16: =IF(A16>0,GAMMADIST(A16,$B$8,$C$8,TRUE),0) -> 0.16659852 | G16: =IF(A16>0,GAMMADIST(A16+0.5,$B$9,1,TRUE),0) -> 0.023054517 | H16: =IF(A16>0,EXPONDIST(A16,$B$10,TRUE),0) -> 0.51485264 | T16: =IF(AND(History!G16<>"",History!G16>0),LN(History!G16),"") | U16: =IF(AND(History!H16<>"",History!H16>0),LN(History!H16),"") | V16: =IF(AND(History!I16<>"",History!I16>0),LN(History!I16),"") -> 3.2921263
A17: =History!F166+(4)*(History!G166-History!F166)/59 -> 35.767627 | B17: =COUNTIF(History!G2:'History'!G152,"<="&A17)/History!B166 -> 0.047619048 | C17: =NORMDIST(A17,$B$5,$C$5,TRUE) -> 0.18600691 | D17: =IF(A17>0,LOGNORMDIST(A17,$B$6,$C$6),0) -> 0.15669541 | E17: =IF(A17>0,WEIBULL(A17,$B$7,$C$7,TRUE),0) -> 0.19369553 | F17: =IF(A17>0,GAMMADIST(A17,$B$8,$C$8,TRUE),0) -> 0.18812014 | G17: =IF(A17>0,GAMMADIST(A17+0.5,$B$9,1,TRUE),0) -> 0.033625202 | H17: =IF(A17>0,EXPONDIST(A17,$B$10,TRUE),0) -> 0.52417509 | T17: =IF(AND(History!G17<>"",History!G17>0),LN(History!G17),"") | U17: =IF(AND(History!H17<>"",History!H17>0),LN(History!H17),"") | V17: =IF(AND(History!I17<>"",History!I17>0),LN(History!I17),"") -> 3.3527072
A18: =History!F166+(5)*(History!G166-History!F166)/59 -> 36.702034 | B18: =COUNTIF(History!G2:'History'!G152,"<="&A18)/History!B166 -> 0.19047619 | C18: =NORMDIST(A18,$B$5,$C$5,TRUE) -> 0.20457566 | D18: =IF(A18>0,LOGNORMDIST(A18,$B$6,$C$6),0) -> 0.18160116 | E18: =IF(A18>0,WEIBULL(A18,$B$7,$C$7,TRUE),0) -> 0.21166867 | F18: =IF(A18>0,GAMMADIST(A18,$B$8,$C$8,TRUE),0) -> 0.21085382 | G18: =IF(A18>0,GAMMADIST(A18+0.5,$B$9,1,TRUE),0) -> 0.047611591 | H18: =IF(A18>0,EXPONDIST(A18,$B$10,TRUE),0) -> 0.53331839 | T18: =IF(AND(History!G18<>"",History!G18>0),LN(History!G18),"") | U18: =IF(AND(History!H18<>"",History!H18>0),LN(History!H18),"") | V18: =IF(AND(History!I18<>"",History!I18>0),LN(History!I18),"") -> 3.1454445
A19: =History!F166+(6)*(History!G166-History!F166)/59 -> 37.636441 | B19: =COUNTIF(History!G2:'History'!G152,"<="&A19)/History!B166 -> 0.28571429 | C19: =NORMDIST(A19,$B$5,$C$5,TRUE) -> 0.22420497 | D19: =IF(A19>0,LOGNORMDIST(A19,$B$6,$C$6),0) -> 0.20813402 | E19: =IF(A19>0,WEIBULL(A19,$B$7,$C$7,TRUE),0) -> 0.230553 | F19: =IF(A19>0,GAMMADIST(A19,$B$8,$C$8,TRUE),0) -> 0.23469226 | G19: =IF(A19>0,GAMMADIST(A19+0.5,$B$9,1,TRUE),0) -> 0.065563008 | H19: =IF(A19>0,EXPONDIST(A19,$B$10,TRUE),0) -> 0.542286 | T19: =IF(AND(History!G19<>"",History!G19>0),LN(History!G19),"") | U19: =IF(AND(History!H19<>"",History!H19>0),LN(History!H19),"") | V19: =IF(AND(History!I19<>"",History!I19>0),LN(History!I19),"") -> 2.8296777
A20: =History!F166+(7)*(History!G166-History!F166)/59 -> 38.570847 | B20: =COUNTIF(History!G2:'History'!G152,"<="&A20)/History!B166 -> 0.28571429 | C20: =NORMDIST(A20,$B$5,$C$5,TRUE) -> 0.24486162 | D20: =IF(A20>0,LOGNORMDIST(A20,$B$6,$C$6),0) -> 0.23609847 | E20: =IF(A20>0,WEIBULL(A20,$B$7,$C$7,TRUE),0) -> 0.25032436 | F20: =IF(A20>0,GAMMADIST(A20,$B$8,$C$8,TRUE),0) -> 0.25951543 | G20: =IF(A20>0,GAMMADIST(A20+0.5,$B$9,1,TRUE),0) -> 0.087946436 | H20: =IF(A20>0,EXPONDIST(A20,$B$10,TRUE),0) -> 0.55108129 | T20: =IF(AND(History!G20<>"",History!G20>0),LN(History!G20),"") | U20: =IF(AND(History!H20<>"",History!H20>0),LN(History!H20),"") -> 3.3432151 | V20: =IF(AND(History!I20<>"",History!I20>0),LN(History!I20),"")
A21: =History!F166+(8)*(History!G166-History!F166)/59 -> 39.505254 | B21: =COUNTIF(History!G2:'History'!G152,"<="&A21)/History!B166 -> 0.33333333 | C21: =NORMDIST(A21,$B$5,$C$5,TRUE) -> 0.26650113 | D21: =IF(A21>0,LOGNORMDIST(A21,$B$6,$C$6),0) -> 0.26527863 | E21: =IF(A21>0,WEIBULL(A21,$B$7,$C$7,TRUE),0) -> 0.2709511 | F21: =IF(A21>0,GAMMADIST(A21,$B$8,$C$8,TRUE),0) -> 0.28519305 | G21: =IF(A21>0,GAMMADIST(A21+0.5,$B$9,1,TRUE),0) -> 0.11509753 | H21: =IF(A21>0,EXPONDIST(A21,$B$10,TRUE),0) -> 0.55970757 | T21: =IF(AND(History!G21<>"",History!G21>0),LN(History!G21),"") | U21: =IF(AND(History!H21<>"",History!H21>0),LN(History!H21),"") -> 3.8924324 | V21: =IF(AND(History!I21<>"",History!I21>0),LN(History!I21),"")
A22: =History!F166+(9)*(History!G166-History!F166)/59 -> 40.439661 | B22: =COUNTIF(History!G2:'History'!G152,"<="&A22)/History!B166 -> 0.42857143 | C22: =NORMDIST(A22,$B$5,$C$5,TRUE) -> 0.28906779 | D22: =IF(A22>0,LOGNORMDIST(A22,$B$6,$C$6),0) -> 0.29544487 | E22: =IF(A22>0,WEIBULL(A22,$B$7,$C$7,TRUE),0) -> 0.292394 | F22: =IF(A22>0,GAMMADIST(A22,$B$8,$C$8,TRUE),0) -> 0.31158711 | G22: =IF(A22>0,GAMMADIST(A22+0.5,$B$9,1,TRUE),0) -> 0.14717777 | H22: =IF(A22>0,EXPONDIST(A22,$B$10,TRUE),0) -> 0.56816809 | T22: =IF(AND(History!G22<>"",History!G22>0),LN(History!G22),"") | U22: =IF(AND(History!H22<>"",History!H22>0),LN(History!H22),"") | V22: =IF(AND(History!I22<>"",History!I22>0),LN(History!I22),"")
A23: =History!F166+(10)*(History!G166-History!F166)/59 -> 41.374068 | B23: =COUNTIF(History!G2:'History'!G152,"<="&A23)/History!B166 -> 0.47619048 | C23: =NORMDIST(A23,$B$5,$C$5,TRUE) -> 0.31249497 | D23: =IF(A23>0,LOGNORMDIST(A23,$B$6,$C$6),0) -> 0.32636036 | E23: =IF(A23>0,WEIBULL(A23,$B$7,$C$7,TRUE),0) -> 0.31460612 | F23: =IF(A23>0,GAMMADIST(A23,$B$8,$C$8,TRUE),0) -> 0.33855448 | G23: =IF(A23>0,GAMMADIST(A23+0.5,$B$9,1,TRUE),0) -> 0.1841432 | H23: =IF(A23>0,EXPONDIST(A23,$B$10,TRUE),0) -> 0.57646604 | T23: =IF(AND(History!G23<>"",History!G23>0),LN(History!G23),"") | U23: =IF(AND(History!H23<>"",History!H23>0),LN(History!H23),"") | V23: =IF(AND(History!I23<>"",History!I23>0),LN(History!I23),"") -> 2.9063545
A24: =History!F166+(11)*(History!G166-History!F166)/59 -> 42.308475 | B24: =COUNTIF(History!G2:'History'!G152,"<="&A24)/History!B166 -> 0.47619048 | C24: =NORMDIST(A24,$B$5,$C$5,TRUE) -> 0.33670554 | D24: =IF(A24>0,LOGNORMDIST(A24,$B$6,$C$6),0) -> 0.35778716 | E24: =IF(A24>0,WEIBULL(A24,$B$7,$C$7,TRUE),0) -> 0.33753291 | F24: =IF(A24>0,GAMMADIST(A24,$B$8,$C$8,TRUE),0) -> 0.36594942 | G24: =IF(A24>0,GAMMADIST(A24+0.5,$B$9,1,TRUE),0) -> 0.22572913 | H24: =IF(A24>0,EXPONDIST(A24,$B$10,TRUE),0) -> 0.58460454 | T24: =IF(AND(History!G24<>"",History!G24>0),LN(History!G24),"") | U24: =IF(AND(History!H24<>"",History!H24>0),LN(History!H24),"") | V24: =IF(AND(History!I24<>"",History!I24>0),LN(History!I24),"") -> 3.6014134
A25: =History!F166+(12)*(History!G166-History!F166)/59 -> 43.242881 | B25: =COUNTIF(History!G2:'History'!G152,"<="&A25)/History!B166 -> 0.47619048 | C25: =NORMDIST(A25,$B$5,$C$5,TRUE) -> 0.36161261 | D25: =IF(A25>0,LOGNORMDIST(A25,$B$6,$C$6),0) -> 0.38949162 | E25: =IF(A25>0,WEIBULL(A25,$B$7,$C$7,TRUE),0) -> 0.36111229 | F25: =IF(A25>0,GAMMADIST(A25,$B$8,$C$8,TRUE),0) -> 0.39362593 | G25: =IF(A25>0,GAMMADIST(A25+0.5,$B$9,1,TRUE),0) -> 0.27145288 | H25: =IF(A25>0,EXPONDIST(A25,$B$10,TRUE),0) -> 0.59258665 | T25: =IF(AND(History!G25<>"",History!G25>0),LN(History!G25),"") | U25: =IF(AND(History!H25<>"",History!H25>0),LN(History!H25),"") -> 3.3403852 | V25: =IF(AND(History!I25<>"",History!I25>0),LN(History!I25),"")
A26: =History!F166+(13)*(History!G166-History!F166)/59 -> 44.177288 | B26: =COUNTIF(History!G2:'History'!G152,"<="&A26)/History!B166 -> 0.47619048 | C26: =NORMDIST(A26,$B$5,$C$5,TRUE) -> 0.38712041 | D26: =IF(A26>0,LOGNORMDIST(A26,$B$6,$C$6),0) -> 0.42124917 | E26: =IF(A26>0,WEIBULL(A26,$B$7,$C$7,TRUE),0) -> 0.38527498 | F26: =IF(A26>0,GAMMADIST(A26,$B$8,$C$8,TRUE),0) -> 0.42144005 | G26: =IF(A26>0,GAMMADIST(A26+0.5,$B$9,1,TRUE),0) -> 0.32063486 | H26: =IF(A26>0,EXPONDIST(A26,$B$10,TRUE),0) -> 0.60041537 | T26: =IF(AND(History!G26<>"",History!G26>0),LN(History!G26),"") | U26: =IF(AND(History!H26<>"",History!H26>0),LN(History!H26),"") -> 3.5292974 | V26: =IF(AND(History!I26<>"",History!I26>0),LN(History!I26),"")
A27: =History!F166+(14)*(History!G166-History!F166)/59 -> 45.111695 | B27: =COUNTIF(History!G2:'History'!G152,"<="&A27)/History!B166 -> 0.52380952 | C27: =NORMDIST(A27,$B$5,$C$5,TRUE) -> 0.41312534 | D27: =IF(A27>0,LOGNORMDIST(A27,$B$6,$C$6),0) -> 0.45284818 | E27: =IF(A27>0,WEIBULL(A27,$B$7,$C$7,TRUE),0) -> 0.40994481 | F27: =IF(A27>0,GAMMADIST(A27,$B$8,$C$8,TRUE),0) -> 0.44925183 | G27: =IF(A27>0,GAMMADIST(A27+0.5,$B$9,1,TRUE),0) -> 0.37243562 | H27: =IF(A27>0,EXPONDIST(A27,$B$10,TRUE),0) -> 0.60809367 | T27: =IF(AND(History!G27<>"",History!G27>0),LN(History!G27),"") | U27: =IF(AND(History!H27<>"",History!H27>0),LN(History!H27),"") -> 3.3286267 | V27: =IF(AND(History!I27<>"",History!I27>0),LN(History!I27),"")
A28: =History!F166+(15)*(History!G166-History!F166)/59 -> 46.046102 | B28: =COUNTIF(History!G2:'History'!G152,"<="&A28)/History!B166 -> 0.52380952 | C28: =NORMDIST(A28,$B$5,$C$5,TRUE) -> 0.43951727 | D28: =IF(A28>0,LOGNORMDIST(A28,$B$6,$C$6),0) -> 0.48409309 | E28: =IF(A28>0,WEIBULL(A28,$B$7,$C$7,TRUE),0) -> 0.43503926 | F28: =IF(A28>0,GAMMADIST(A28,$B$8,$C$8,TRUE),0) -> 0.47692712 | G28: =IF(A28>0,GAMMADIST(A28+0.5,$B$9,1,TRUE),0) -> 0.42590501 | H28: =IF(A28>0,EXPONDIST(A28,$B$10,TRUE),0) -> 0.61562442 | T28: =IF(AND(History!G28<>"",History!G28>0),LN(History!G28),"") | U28: =IF(AND(History!H28<>"",History!H28>0),LN(History!H28),"") | V28: =IF(AND(History!I28<>"",History!I28>0),LN(History!I28),"") -> 4.1584142
A29: =History!F166+(16)*(History!G166-History!F166)/59 -> 46.980508 | B29: =COUNTIF(History!G2:'History'!G152,"<="&A29)/History!B166 -> 0.57142857 | C29: =NORMDIST(A29,$B$5,$C$5,TRUE) -> 0.46618089 | D29: =IF(A29>0,LOGNORMDIST(A29,$B$6,$C$6),0) -> 0.51480662 | E29: =IF(A29>0,WEIBULL(A29,$B$7,$C$7,TRUE),0) -> 0.46047008 | F29: =IF(A29>0,GAMMADIST(A29,$B$8,$C$8,TRUE),0) -> 0.50433915 | G29: =IF(A29>0,GAMMADIST(A29+0.5,$B$9,1,TRUE),0) -> 0.48003825 | H29: =IF(A29>0,EXPONDIST(A29,$B$10,TRUE),0) -> 0.62301046 | T29: =IF(AND(History!G29<>"",History!G29>0),LN(History!G29),"") | U29: =IF(AND(History!H29<>"",History!H29>0),LN(History!H29),"") -> 3.5424076 | V29: =IF(AND(History!I29<>"",History!I29>0),LN(History!I29),"")
A30: =History!F166+(17)*(History!G166-History!F166)/59 -> 47.914915 | B30: =COUNTIF(History!G2:'History'!G152,"<="&A30)/History!B166 -> 0.57142857 | C30: =NORMDIST(A30,$B$5,$C$5,TRUE) -> 0.49299723 | D30: =IF(A30>0,LOGNORMDIST(A30,$B$6,$C$6),0) -> 0.54483135 | E30: =IF(A30>0,WEIBULL(A30,$B$7,$C$7,TRUE),0) -> 0.48614397 | F30: =IF(A30>0,GAMMADIST(A30,$B$8,$C$8,TRUE),0) -> 0.53136974 | G30: =IF(A30>0,GAMMADIST(A30+0.5,$B$9,1,TRUE),0) -> 0.53383335 | H30: =IF(A30>0,EXPONDIST(A30,$B$10,TRUE),0) -> 0.63025457 | T30: =IF(AND(History!G30<>"",History!G30>0),LN(History!G30),"") | U30: =IF(AND(History!H30<>"",History!H30>0),LN(History!H30),"") | V30: =IF(AND(History!I30<>"",History!I30>0),LN(History!I30),"") -> 1.9960599
A31: =History!F166+(18)*(History!G166-History!F166)/59 -> 48.849322 | B31: =COUNTIF(History!G2:'History'!G152,"<="&A31)/History!B166 -> 0.61904762 | C31: =NORMDIST(A31,$B$5,$C$5,TRUE) -> 0.51984526 | D31: =IF(A31>0,LOGNORMDIST(A31,$B$6,$C$6),0) -> 0.57403049 | E31: =IF(A31>0,WEIBULL(A31,$B$7,$C$7,TRUE),0) -> 0.51196351 | F31: =IF(A31>0,GAMMADIST(A31,$B$8,$C$8,TRUE),0) -> 0.55791034 | G31: =IF(A31>0,GAMMADIST(A31+0.5,$B$9,1,TRUE),0) -> 0.58634456 | H31: =IF(A31>0,EXPONDIST(A31,$B$10,TRUE),0) -> 0.63735949 | T31: =IF(AND(History!G31<>"",History!G31>0),LN(History!G31),"") | U31: =IF(AND(History!H31<>"",History!H31>0),LN(History!H31),"") -> 3.7421832 | V31: =IF(AND(History!I31<>"",History!I31>0),LN(History!I31),"")
A32: =History!F166+(19)*(History!G166-History!F166)/59 -> 49.783729 | B32: =COUNTIF(History!G2:'History'!G152,"<="&A32)/History!B166 -> 0.66666667 | C32: =NORMDIST(A32,$B$5,$C$5,TRUE) -> 0.54660354 | D32: =IF(A32>0,LOGNORMDIST(A32,$B$6,$C$6),0) -> 0.60228809 | E32: =IF(A32>0,WEIBULL(A32,$B$7,$C$7,TRUE),0) -> 0.53782806 | F32: =IF(A32>0,GAMMADIST(A32,$B$8,$C$8,TRUE),0) -> 0.58386276 | G32: =IF(A32>0,GAMMADIST(A32+0.5,$B$9,1,TRUE),0) -> 0.63672774 | H32: =IF(A32>0,EXPONDIST(A32,$B$10,TRUE),0) -> 0.64432787 | T32: =IF(AND(History!G32<>"",History!G32>0),LN(History!G32),"") | U32: =IF(AND(History!H32<>"",History!H32>0),LN(History!H32),"") -> 3.1099534 | V32: =IF(AND(History!I32<>"",History!I32>0),LN(History!I32),"")
A33: =History!F166+(20)*(History!G166-History!F166)/59 -> 50.718136 | B33: =COUNTIF(History!G2:'History'!G152,"<="&A33)/History!B166 -> 0.66666667 | C33: =NORMDIST(A33,$B$5,$C$5,TRUE) -> 0.57315181 | D33: =IF(A33>0,LOGNORMDIST(A33,$B$6,$C$6),0) -> 0.62950874 | E33: =IF(A33>0,WEIBULL(A33,$B$7,$C$7,TRUE),0) -> 0.56363483 | F33: =IF(A33>0,GAMMADIST(A33,$B$8,$C$8,TRUE),0) -> 0.60913967 | G33: =IF(A33>0,GAMMADIST(A33+0.5,$B$9,1,TRUE),0) -> 0.68427446 | H33: =IF(A33>0,EXPONDIST(A33,$B$10,TRUE),0) -> 0.65116236 | T33: =IF(AND(History!G33<>"",History!G33>0),LN(History!G33),"") | U33: =IF(AND(History!H33<>"",History!H33>0),LN(History!H33),"") -> 3.8314635 | V33: =IF(AND(History!I33<>"",History!I33>0),LN(History!I33),"")
A34: =History!F166+(21)*(History!G166-History!F166)/59 -> 51.652542 | B34: =COUNTIF(History!G2:'History'!G152,"<="&A34)/History!B166 -> 0.66666667 | C34: =NORMDIST(A34,$B$5,$C$5,TRUE) -> 0.59937268 | D34: =IF(A34>0,LOGNORMDIST(A34,$B$6,$C$6),0) -> 0.65561679 | E34: =IF(A34>0,WEIBULL(A34,$B$7,$C$7,TRUE),0) -> 0.58927999 | F34: =IF(A34>0,GAMMADIST(A34,$B$8,$C$8,TRUE),0) -> 0.63366488 | G34: =IF(A34>0,GAMMADIST(A34+0.5,$B$9,1,TRUE),0) -> 0.72843341 | H34: =IF(A34>0,EXPONDIST(A34,$B$10,TRUE),0) -> 0.65786551 | T34: =IF(AND(History!G34<>"",History!G34>0),LN(History!G34),"") | U34: =IF(AND(History!H34<>"",History!H34>0),LN(History!H34),"") | V34: =IF(AND(History!I34<>"",History!I34>0),LN(History!I34),"") -> 2.3655599
A35: =History!F166+(22)*(History!G166-History!F166)/59 -> 52.586949 | B35: =COUNTIF(History!G2:'History'!G152,"<="&A35)/History!B166 -> 0.66666667 | C35: =NORMDIST(A35,$B$5,$C$5,TRUE) -> 0.62515311 | D35: =IF(A35>0,LOGNORMDIST(A35,$B$6,$C$6),0) -> 0.68055533 | E35: =IF(A35>0,WEIBULL(A35,$B$7,$C$7,TRUE),0) -> 0.61465987 | F35: =IF(A35>0,GAMMADIST(A35,$B$8,$C$8,TRUE),0) -> 0.65737335 | G35: =IF(A35>0,GAMMADIST(A35+0.5,$B$9,1,TRUE),0) -> 0.76881919 | H35: =IF(A35>0,EXPONDIST(A35,$B$10,TRUE),0) -> 0.66443986 | T35: =IF(AND(History!G35<>"",History!G35>0),LN(History!G35),"") | U35: =IF(AND(History!H35<>"",History!H35>0),LN(History!H35),"") -> 3.4959013 | V35: =IF(AND(History!I35<>"",History!I35>0),LN(History!I35),"")
A36: =History!F166+(23)*(History!G166-History!F166)/59 -> 53.521356 | B36: =COUNTIF(History!G2:'History'!G152,"<="&A36)/History!B166 -> 0.76190476 | C36: =NORMDIST(A36,$B$5,$C$5,TRUE) -> 0.65038595 | D36: =IF(A36>0,LOGNORMDIST(A36,$B$6,$C$6),0) -> 0.70428482 | E36: =IF(A36>0,WEIBULL(A36,$B$7,$C$7,TRUE),0) -> 0.63967218 | F36: =IF(A36>0,GAMMADIST(A36,$B$8,$C$8,TRUE),0) -> 0.68021113 | G36: =IF(A36>0,GAMMADIST(A36+0.5,$B$9,1,TRUE),0) -> 0.80520939 | H36: =IF(A36>0,EXPONDIST(A36,$B$10,TRUE),0) -> 0.67088788 | T36: =IF(AND(History!G36<>"",History!G36>0),LN(History!G36),"") | U36: =IF(AND(History!H36<>"",History!H36>0),LN(History!H36),"") | V36: =IF(AND(History!I36<>"",History!I36>0),LN(History!I36),"") -> 3.5216435
A37: =History!F166+(24)*(History!G166-History!F166)/59 -> 54.455763 | B37: =COUNTIF(History!G2:'History'!G152,"<="&A37)/History!B166 -> 0.76190476 | C37: =NORMDIST(A37,$B$5,$C$5,TRUE) -> 0.67497119 | D37: =IF(A37>0,LOGNORMDIST(A37,$B$6,$C$6),0) -> 0.72678158 | E37: =IF(A37>0,WEIBULL(A37,$B$7,$C$7,TRUE),0) -> 0.66421726 | F37: =IF(A37>0,GAMMADIST(A37,$B$8,$C$8,TRUE),0) -> 0.70213497 | G37: =IF(A37>0,GAMMADIST(A37+0.5,$B$9,1,TRUE),0) -> 0.83753223 | H37: =IF(A37>0,EXPONDIST(A37,$B$10,TRUE),0) -> 0.677212 | T37: =IF(AND(History!G37<>"",History!G37>0),LN(History!G37),"") -> 3.7174669 | U37: =IF(AND(History!H37<>"",History!H37>0),LN(History!H37),"") | V37: =IF(AND(History!I37<>"",History!I37>0),LN(History!I37),"")
A38: =History!F166+(25)*(History!G166-History!F166)/59 -> 55.390169 | B38: =COUNTIF(History!G2:'History'!G152,"<="&A38)/History!B166 -> 0.76190476 | C38: =NORMDIST(A38,$B$5,$C$5,TRUE) -> 0.69881718 | D38: =IF(A38>0,LOGNORMDIST(A38,$B$6,$C$6),0) -> 0.74803624 | E38: =IF(A38>0,WEIBULL(A38,$B$7,$C$7,TRUE),0) -> 0.6881993 | F38: =IF(A38>0,GAMMADIST(A38,$B$8,$C$8,TRUE),0) -> 0.72311199 | G38: =IF(A38>0,GAMMADIST(A38+0.5,$B$9,1,TRUE),0) -> 0.86584714 | H38: =IF(A38>0,EXPONDIST(A38,$B$10,TRUE),0) -> 0.68341459 | T38: =IF(AND(History!G38<>"",History!G38>0),LN(History!G38),"") -> 3.8433158 | U38: =IF(AND(History!H38<>"",History!H38>0),LN(History!H38),"") | V38: =IF(AND(History!I38<>"",History!I38>0),LN(History!I38),"")
A39: =History!F166+(26)*(History!G166-History!F166)/59 -> 56.324576 | B39: =COUNTIF(History!G2:'History'!G152,"<="&A39)/History!B166 -> 0.80952381 | C39: =NORMDIST(A39,$B$5,$C$5,TRUE) -> 0.72184161 | D39: =IF(A39>0,LOGNORMDIST(A39,$B$6,$C$6),0) -> 0.76805202 | E39: =IF(A39>0,WEIBULL(A39,$B$7,$C$7,TRUE),0) -> 0.71152755 | F39: =IF(A39>0,GAMMADIST(A39,$B$8,$C$8,TRUE),0) -> 0.74311903 | G39: =IF(A39>0,GAMMADIST(A39+0.5,$B$9,1,TRUE),0) -> 0.89032098 | H39: =IF(A39>0,EXPONDIST(A39,$B$10,TRUE),0) -> 0.689498 | T39: =IF(AND(History!G39<>"",History!G39>0),LN(History!G39),"") | U39: =IF(AND(History!H39<>"",History!H39>0),LN(History!H39),"") -> 3.7079465 | V39: =IF(AND(History!I39<>"",History!I39>0),LN(History!I39),"")
A40: =History!F166+(27)*(History!G166-History!F166)/59 -> 57.258983 | B40: =COUNTIF(History!G2:'History'!G152,"<="&A40)/History!B166 -> 0.80952381 | C40: =NORMDIST(A40,$B$5,$C$5,TRUE) -> 0.7439723 | D40: =IF(A40>0,LOGNORMDIST(A40,$B$6,$C$6),0) -> 0.78684314 | E40: =IF(A40>0,WEIBULL(A40,$B$7,$C$7,TRUE),0) -> 0.73411747 | F40: =IF(A40>0,GAMMADIST(A40,$B$8,$C$8,TRUE),0) -> 0.76214211 | G40: =IF(A40>0,GAMMADIST(A40+0.5,$B$9,1,TRUE),0) -> 0.91120248 | H40: =IF(A40>0,EXPONDIST(A40,$B$10,TRUE),0) -> 0.69546451 | T40: =IF(AND(History!G40<>"",History!G40>0),LN(History!G40),"") | U40: =IF(AND(History!H40<>"",History!H40>0),LN(History!H40),"") -> 3.9590974 | V40: =IF(AND(History!I40<>"",History!I40>0),LN(History!I40),"")
...

Sheet Monte Carlo
A1: 1000 tirages/classe via RAND() + transformée Box-Muller, mu/sig = stats nettoyées EN DIRECT de History (pas DB — comme monteCarlo()/renderMC() du JS). Le JS lui-même utilise Math.random() SANS seed fixe : non reproductible d'un rechargement à l'autre côté HTML aussi — RAND() ici a la même caractéristique, ce n'est pas une divergence à documenter (contrairement à MEDFRET).
A3: 1st in family — U1 | B3: U2 | C3: Z (Box-Muller) | D3: Tirage (mois) | F3: Innovative — U1 | G3: U2 | H3: Z (Box-Muller) | I3: Tirage (mois) | K3: Follower — U1 | L3: U2 | M3: Z (Box-Muller) | N3: Tirage (mois)
A4: =RAND() -> 0.71629508 | B4: =RAND() -> 0.41338573 | C4: =SQRT(-2*LN(MAX(A4,0.0000000001)))*COS(2*PI()*B4) -> -0.69888661 | D4: =History!C166+History!D166*C4 -> 38.457897 | F4: =RAND() -> 0.87128781 | G4: =RAND() -> 0.88550459 | H4: =SQRT(-2*LN(MAX(F4,0.0000000001)))*COS(2*PI()*G4) -> 0.39486468 | I4: =History!C167+History!D167*H4 -> 41.314273 | K4: =RAND() -> 0.78331669 | L4: =RAND() -> 0.53492119 | M4: =SQRT(-2*LN(MAX(K4,0.0000000001)))*COS(2*PI()*L4) -> -0.68212632 | N4: =History!C168+History!D168*M4 -> 14.350021
A5: =RAND() -> 0.36155431 | B5: =RAND() -> 0.64976212 | C5: =SQRT(-2*LN(MAX(A5,0.0000000001)))*COS(2*PI()*B5) -> -0.84015498 | D5: =History!C166+History!D166*C5 -> 36.497066 | F5: =RAND() -> 0.40422904 | G5: =RAND() -> 0.081207085 | H5: =SQRT(-2*LN(MAX(F5,0.0000000001)))*COS(2*PI()*G5) -> 1.1745022 | I5: =History!C167+History!D167*H5 -> 51.125641 | K5: =RAND() -> 0.74587423 | L5: =RAND() -> 0.22533163 | M5: =SQRT(-2*LN(MAX(K5,0.0000000001)))*COS(2*PI()*L5) -> 0.11821585 | N5: =History!C168+History!D168*M5 -> 26.44049
A6: =RAND() -> 0.57656649 | B6: =RAND() -> 0.54444517 | C6: =SQRT(-2*LN(MAX(A6,0.0000000001)))*COS(2*PI()*B6) -> -1.0087874 | D6: =History!C166+History!D166*C6 -> 34.156417 | F6: =RAND() -> 0.47956576 | G6: =RAND() -> 0.17134069 | H6: =SQRT(-2*LN(MAX(F6,0.0000000001)))*COS(2*PI()*G6) -> 0.57507547 | I6: =History!C167+History!D167*H6 -> 43.58214 | K6: =RAND() -> 0.98073583 | L6: =RAND() -> 0.55850287 | M6: =SQRT(-2*LN(MAX(K6,0.0000000001)))*COS(2*PI()*L6) -> -0.18406559 | N6: =History!C168+History!D168*M6 -> 21.874038
A7: =RAND() -> 0.21648068 | B7: =RAND() -> 0.54997229 | C7: =SQRT(-2*LN(MAX(A7,0.0000000001)))*COS(2*PI()*B7) -> -1.6639016 | D7: =History!C166+History!D166*C7 -> 25.063312 | F7: =RAND() -> 0.53146042 | G7: =RAND() -> 0.22950269 | H7: =SQRT(-2*LN(MAX(F7,0.0000000001)))*COS(2*PI()*G7) -> 0.14440844 | I7: =History!C167+History!D167*H7 -> 38.1624 | K7: =RAND() -> 0.6853095 | L7: =RAND() -> 0.20439268 | M7: =SQRT(-2*LN(MAX(K7,0.0000000001)))*COS(2*PI()*L7) -> 0.24572477 | N7: =History!C168+History!D168*M7 -> 28.36672
A8: =RAND() -> 0.40861396 | B8: =RAND() -> 0.68219007 | C8: =SQRT(-2*LN(MAX(A8,0.0000000001)))*COS(2*PI()*B8) -> -0.55293734 | D8: =History!C166+History!D166*C8 -> 40.4837 | F8: =RAND() -> 0.42269373 | G8: =RAND() -> 0.32448389 | H8: =SQRT(-2*LN(MAX(F8,0.0000000001)))*COS(2*PI()*G8) -> -0.59199126 | I8: =History!C167+History!D167*H8 -> 28.895158 | K8: =RAND() -> 0.30889349 | L8: =RAND() -> 0.68112215 | M8: =SQRT(-2*LN(MAX(K8,0.0000000001)))*COS(2*PI()*L8) -> -0.6428453 | N8: =History!C168+History!D168*M8 -> 14.943425
A9: =RAND() -> 0.85727444 | B9: =RAND() -> 0.39432458 | C9: =SQRT(-2*LN(MAX(A9,0.0000000001)))*COS(2*PI()*B9) -> -0.43706677 | D9: =History!C166+History!D166*C9 -> 42.092004 | F9: =RAND() -> 0.56892201 | G9: =RAND() -> 0.43347486 | H9: =SQRT(-2*LN(MAX(F9,0.0000000001)))*COS(2*PI()*G9) -> -0.97064638 | I9: =History!C167+History!D167*H9 -> 24.129963 | K9: =RAND() -> 0.30707071 | L9: =RAND() -> 0.48197724 | M9: =SQRT(-2*LN(MAX(K9,0.0000000001)))*COS(2*PI()*L9) -> -1.5268278 | N9: =History!C168+History!D168*M9 -> 1.5894322
A10: =RAND() -> 0.39277825 | B10: =RAND() -> 0.76401886 | C10: =SQRT(-2*LN(MAX(A10,0.0000000001)))*COS(2*PI()*B10) -> 0.12026461 | D10: =History!C166+History!D166*C10 -> 49.827866 | F10: =RAND() -> 0.0098973164 | G10: =RAND() -> 0.45178601 | H10: =SQRT(-2*LN(MAX(F10,0.0000000001)))*COS(2*PI()*G10) -> -2.8999043 | I10: =History!C167+History!D167*H10 -> -0.14883295 | K10: =RAND() -> 0.5065157 | L10: =RAND() -> 0.65878911 | M10: =SQRT(-2*LN(MAX(K10,0.0000000001)))*COS(2*PI()*L10) -> -0.63244232 | N10: =History!C168+History!D168*M10 -> 15.100579
A11: =RAND() -> 0.34327681 | B11: =RAND() -> 0.461797 | C11: =SQRT(-2*LN(MAX(A11,0.0000000001)))*COS(2*PI()*B11) -> -1.420413 | D11: =History!C166+History!D166*C11 -> 28.442978 | F11: =RAND() -> 0.86374961 | G11: =RAND() -> 0.23374214 | H11: =SQRT(-2*LN(MAX(F11,0.0000000001)))*COS(2*PI()*G11) -> 0.055192561 | I11: =History!C167+History!D167*H11 -> 37.03966 | K11: =RAND() -> 0.055660634 | L11: =RAND() -> 0.3806444 | M11: =SQRT(-2*LN(MAX(K11,0.0000000001)))*COS(2*PI()*L11) -> -1.7587465 | N11: =History!C168+History!D168*M11 -> -1.9140772
A12: =RAND() -> 0.11095417 | B12: =RAND() -> 0.44672762 | C12: =SQRT(-2*LN(MAX(A12,0.0000000001)))*COS(2*PI()*B12) -> -1.9805913 | D12: =History!C166+History!D166*C12 -> 20.6676 | F12: =RAND() -> 0.13970637 | G12: =RAND() -> 0.60612061 | H12: =SQRT(-2*LN(MAX(F12,0.0000000001)))*COS(2*PI()*G12) -> -1.5591003 | I12: =History!C167+History!D167*H12 -> 16.72455 | K12: =RAND() -> 0.48030737 | L12: =RAND() -> 0.44230606 | M12: =SQRT(-2*LN(MAX(K12,0.0000000001)))*COS(2*PI()*L12) -> -1.1323532 | N12: =History!C168+History!D168*M12 -> 7.5486126
A13: =RAND() -> 0.4828561 | B13: =RAND() -> 0.42975744 | C13: =SQRT(-2*LN(MAX(A13,0.0000000001)))*COS(2*PI()*B13) -> -1.0910511 | D13: =History!C166+History!D166*C13 -> 33.014582 | F13: =RAND() -> 0.88775889 | G13: =RAND() -> 0.7566596 | H13: =SQRT(-2*LN(MAX(F13,0.0000000001)))*COS(2*PI()*G13) -> 0.020412209 | I13: =History!C167+History!D167*H13 -> 36.601966 | K13: =RAND() -> 0.75623459 | L13: =RAND() -> 0.3933512 | M13: =SQRT(-2*LN(MAX(K13,0.0000000001)))*COS(2*PI()*L13) -> -0.58588974 | N13: =History!C168+History!D168*M13 -> 15.803831
A14: =RAND() -> 0.86792495 | B14: =RAND() -> 0.78006826 | C14: =SQRT(-2*LN(MAX(A14,0.0000000001)))*COS(2*PI()*B14) -> 0.099959701 | D14: =History!C166+History!D166*C14 -> 49.54603 | F14: =RAND() -> 0.185442 | G14: =RAND() -> 0.50313177 | H14: =SQRT(-2*LN(MAX(F14,0.0000000001)))*COS(2*PI()*G14) -> -1.8354077 | I14: =History!C167+History!D167*H14 -> 13.247352 | K14: =RAND() -> 0.37442378 | L14: =RAND() -> 0.17588003 | M14: =SQRT(-2*LN(MAX(K14,0.0000000001)))*COS(2*PI()*L14) -> 0.62943835 | N14: =History!C168+History!D168*M14 -> 34.163337
A15: =RAND() -> 0.65591894 | B15: =RAND() -> 0.47294473 | C15: =SQRT(-2*LN(MAX(A15,0.0000000001)))*COS(2*PI()*B15) -> -0.90515007 | D15: =History!C166+History!D166*C15 -> 35.594922 | F15: =RAND() -> 0.54960857 | G15: =RAND() -> 0.069650344 | H15: =SQRT(-2*LN(MAX(F15,0.0000000001)))*COS(2*PI()*G15) -> 0.99101015 | I15: =History!C167+History!D167*H15 -> 48.816481 | K15: =RAND() -> 0.4931819 | L15: =RAND() -> 0.89126513 | M15: =SQRT(-2*LN(MAX(K15,0.0000000001)))*COS(2*PI()*L15) -> 0.92214669 | N15: =History!C168+History!D168*M15 -> 38.585173
A16: =RAND() -> 0.39409585 | B16: =RAND() -> 0.017529284 | C16: =SQRT(-2*LN(MAX(A16,0.0000000001)))*COS(2*PI()*B16) -> 1.3564004 | D16: =History!C166+History!D166*C16 -> 66.985658 | F16: =RAND() -> 0.27105012 | G16: =RAND() -> 0.34713251 | H16: =SQRT(-2*LN(MAX(F16,0.0000000001)))*COS(2*PI()*G16) -> -0.92605519 | I16: =History!C167+History!D167*H16 -> 24.691122 | K16: =RAND() -> 0.2440172 | L16: =RAND() -> 0.2773694 | M16: =SQRT(-2*LN(MAX(K16,0.0000000001)))*COS(2*PI()*L16) -> -0.28741308 | N16: =History!C168+History!D168*M16 -> 20.312806
A17: =RAND() -> 0.71459554 | B17: =RAND() -> 0.41036808 | C17: =SQRT(-2*LN(MAX(A17,0.0000000001)))*COS(2*PI()*B17) -> -0.69319672 | D17: =History!C166+History!D166*C17 -> 38.536874 | F17: =RAND() -> 0.42557072 | G17: =RAND() -> 0.061188381 | H17: =SQRT(-2*LN(MAX(F17,0.0000000001)))*COS(2*PI()*G17) -> 1.211733 | I17: =History!C167+History!D167*H17 -> 51.594173 | K17: =RAND() -> 0.47023605 | L17: =RAND() -> 0.87177661 | M17: =SQRT(-2*LN(MAX(K17,0.0000000001)))*COS(2*PI()*L17) -> 0.8508619 | N17: =History!C168+History!D168*M17 -> 37.5083
A18: =RAND() -> 0.011396683 | B18: =RAND() -> 0.078973283 | C18: =SQRT(-2*LN(MAX(A18,0.0000000001)))*COS(2*PI()*B18) -> 2.6306835 | D18: =History!C166+History!D166*C18 -> 84.672941 | F18: =RAND() -> 0.05861421 | G18: =RAND() -> 0.60861862 | H18: =SQRT(-2*LN(MAX(F18,0.0000000001)))*COS(2*PI()*G18) -> -1.8484118 | I18: =History!C167+History!D167*H18 -> 13.083702 | K18: =RAND() -> 0.90248053 | L18: =RAND() -> 0.88972496 | M18: =SQRT(-2*LN(MAX(K18,0.0000000001)))*COS(2*PI()*L18) -> 0.3485492 | N18: =History!C168+History!D168*M18 -> 29.92005
A19: =RAND() -> 0.99024044 | B19: =RAND() -> 0.83963239 | C19: =SQRT(-2*LN(MAX(A19,0.0000000001)))*COS(2*PI()*B19) -> 0.074771124 | D19: =History!C166+History!D166*C19 -> 49.196408 | F19: =RAND() -> 0.35721359 | G19: =RAND() -> 0.56282397 | H19: =SQRT(-2*LN(MAX(F19,0.0000000001)))*COS(2*PI()*G19) -> -1.3245236 | I19: =History!C167+History!D167*H19 -> 19.676586 | K19: =RAND() -> 0.30356188 | L19: =RAND() -> 0.89757827 | M19: =SQRT(-2*LN(MAX(K19,0.0000000001)))*COS(2*PI()*L19) -> 1.2352734 | N19: =History!C168+History!D168*M19 -> 43.315461
A20: =RAND() -> 0.41096241 | B20: =RAND() -> 0.66551248 | C20: =SQRT(-2*LN(MAX(A20,0.0000000001)))*COS(2*PI()*B20) -> -0.67516133 | D20: =History!C166+History!D166*C20 -> 38.787208 | F20: =RAND() -> 0.966834 | G20: =RAND() -> 0.67875818 | H20: =SQRT(-2*LN(MAX(F20,0.0000000001)))*COS(2*PI()*G20) -> -0.11241568 | I20: =History!C167+History!D167*H20 -> 34.93039 | K20: =RAND() -> 0.30820814 | L20: =RAND() -> 0.72441462 | M20: =SQRT(-2*LN(MAX(K20,0.0000000001)))*COS(2*PI()*L20) -> -0.24558343 | N20: =History!C168+History!D168*M20 -> 20.944711
A21: =RAND() -> 0.12011561 | B21: =RAND() -> 0.76773289 | C21: =SQRT(-2*LN(MAX(A21,0.0000000001)))*COS(2*PI()*B21) -> 0.22891368 | D21: =History!C166+History!D166*C21 -> 51.335935 | F21: =RAND() -> 0.36449039 | G21: =RAND() -> 0.81080684 | H21: =SQRT(-2*LN(MAX(F21,0.0000000001)))*COS(2*PI()*G21) -> 0.52970029 | I21: =History!C167+History!D167*H21 -> 43.011115 | K21: =RAND() -> 0.78599483 | L21: =RAND() -> 0.43314663 | M21: =SQRT(-2*LN(MAX(K21,0.0000000001)))*COS(2*PI()*L21) -> -0.63365195 | N21: =History!C168+History!D168*M21 -> 15.082305
A22: =RAND() -> 0.63018033 | B22: =RAND() -> 0.94159713 | C22: =SQRT(-2*LN(MAX(A22,0.0000000001)))*COS(2*PI()*B22) -> 0.89700932 | D22: =History!C166+History!D166*C22 -> 60.609225 | F22: =RAND() -> 0.63016348 | G22: =RAND() -> 0.0072745121 | H22: =SQRT(-2*LN(MAX(F22,0.0000000001)))*COS(2*PI()*G22) -> 0.96001245 | I22: =History!C167+History!D167*H22 -> 48.426389 | K22: =RAND() -> 0.61010718 | L22: =RAND() -> 0.88063525 | M22: =SQRT(-2*LN(MAX(K22,0.0000000001)))*COS(2*PI()*L22) -> 0.72738048 | N22: =History!C168+History!D168*M22 -> 35.642912
A23: =RAND() -> 0.70179723 | B23: =RAND() -> 0.03932638 | C23: =SQRT(-2*LN(MAX(A23,0.0000000001)))*COS(2*PI()*B23) -> 0.81599836 | D23: =History!C166+History!D166*C23 -> 59.484778 | F23: =RAND() -> 0.45741178 | G23: =RAND() -> 0.076121658 | H23: =SQRT(-2*LN(MAX(F23,0.0000000001)))*COS(2*PI()*G23) -> 1.1103852 | I23: =History!C167+History!D167*H23 -> 50.318759 | K23: =RAND() -> 0.18705021 | L23: =RAND() -> 0.50296298 | M23: =SQRT(-2*LN(MAX(K23,0.0000000001)))*COS(2*PI()*L23) -> -1.8307361 | N23: =History!C168+History!D168*M23 -> -3.0015961
A24: =RAND() -> 0.75193011 | B24: =RAND() -> 0.086840751 | C24: =SQRT(-2*LN(MAX(A24,0.0000000001)))*COS(2*PI()*B24) -> 0.64548436 | D24: =History!C166+History!D166*C24 -> 57.118013 | F24: =RAND() -> 0.54217089 | G24: =RAND() -> 0.58594214 | H24: =SQRT(-2*LN(MAX(F24,0.0000000001)))*COS(2*PI()*G24) -> -0.94906236 | I24: =History!C167+History!D167*H24 -> 24.401588 | K24: =RAND() -> 0.10704914 | L24: =RAND() -> 0.51032543 | M24: =SQRT(-2*LN(MAX(K24,0.0000000001)))*COS(2*PI()*L24) -> -2.1095382 | N24: =History!C168+History!D168*M24 -> -7.2133552
A25: =RAND() -> 0.81528054 | B25: =RAND() -> 0.57119077 | C25: =SQRT(-2*LN(MAX(A25,0.0000000001)))*COS(2*PI()*B25) -> -0.5762209 | D25: =History!C166+History!D166*C25 -> 40.16052 | F25: =RAND() -> 0.40479206 | G25: =RAND() -> 0.39660844 | H25: =SQRT(-2*LN(MAX(F25,0.0000000001)))*COS(2*PI()*G25) -> -1.0709578 | I25: =History!C167+History!D167*H25 -> 22.867592 | K25: =RAND() -> 0.59162389 | L25: =RAND() -> 0.36664593 | M25: =SQRT(-2*LN(MAX(K25,0.0000000001)))*COS(2*PI()*L25) -> -0.68547997 | N25: =History!C168+History!D168*M25 -> 14.299359
A26: =RAND() -> 0.84349864 | B26: =RAND() -> 0.92403492 | C26: =SQRT(-2*LN(MAX(A26,0.0000000001)))*COS(2*PI()*B26) -> 0.51822686 | D26: =History!C166+History!D166*C26 -> 55.351655 | F26: =RAND() -> 0.23496058 | G26: =RAND() -> 0.82011261 | H26: =SQRT(-2*LN(MAX(F26,0.0000000001)))*COS(2*PI()*G26) -> 0.72574965 | I26: =History!C167+History!D167*H26 -> 45.478303 | K26: =RAND() -> 0.17387283 | L26: =RAND() -> 0.125232 | M26: =SQRT(-2*LN(MAX(K26,0.0000000001)))*COS(2*PI()*L26) -> 1.3207312 | N26: =History!C168+History!D168*M26 -> 44.60644
A27: =RAND() -> 0.62165757 | B27: =RAND() -> 0.51215175 | C27: =SQRT(-2*LN(MAX(A27,0.0000000001)))*COS(2*PI()*B27) -> -0.97221403 | D27: =History!C166+History!D166*C27 -> 34.664062 | F27: =RAND() -> 0.85312464 | G27: =RAND() -> 0.74954742 | H27: =SQRT(-2*LN(MAX(F27,0.0000000001)))*COS(2*PI()*G27) -> -0.0016028201 | I27: =History!C167+History!D167*H27 -> 36.324917 | K27: =RAND() -> 0.078971205 | L27: =RAND() -> 0.30172494 | M27: =SQRT(-2*LN(MAX(K27,0.0000000001)))*COS(2*PI()*L27) -> -0.71949169 | N27: =History!C168+History!D168*M27 -> 13.785556
A28: =RAND() -> 0.672562 | B28: =RAND() -> 0.2720048 | C28: =SQRT(-2*LN(MAX(A28,0.0000000001)))*COS(2*PI()*B28) -> -0.12275451 | D28: =History!C166+History!D166*C28 -> 46.454716 | F28: =RAND() -> 0.75411526 | G28: =RAND() -> 0.70565798 | H28: =SQRT(-2*LN(MAX(F28,0.0000000001)))*COS(2*PI()*G28) -> -0.20661577 | I28: =History!C167+History!D167*H28 -> 33.744926 | K28: =RAND() -> 0.62676325 | L28: =RAND() -> 0.65044767 | M28: =SQRT(-2*LN(MAX(K28,0.0000000001)))*COS(2*PI()*L28) -> -0.56596871 | N28: =History!C168+History!D168*M28 -> 16.10477
A29: =RAND() -> 0.39621095 | B29: =RAND() -> 0.82272265 | C29: =SQRT(-2*LN(MAX(A29,0.0000000001)))*COS(2*PI()*B29) -> 0.6003523 | D29: =History!C166+History!D166*C29 -> 56.491571 | F29: =RAND() -> 0.97935249 | G29: =RAND() -> 0.45580614 | H29: =SQRT(-2*LN(MAX(F29,0.0000000001)))*COS(2*PI()*G29) -> -0.19644784 | I29: =History!C167+History!D167*H29 -> 33.872885 | K29: =RAND() -> 0.46276584 | L29: =RAND() -> 0.1081001 | M29: =SQRT(-2*LN(MAX(K29,0.0000000001)))*COS(2*PI()*L29) -> 0.96589104 | N29: =History!C168+History!D168*M29 -> 39.246002
A30: =RAND() -> 0.39820086 | B30: =RAND() -> 0.86087246 | C30: =SQRT(-2*LN(MAX(A30,0.0000000001)))*COS(2*PI()*B30) -> 0.87073816 | D30: =History!C166+History!D166*C30 -> 60.244577 | F30: =RAND() -> 0.43673193 | G30: =RAND() -> 0.49886251 | H30: =SQRT(-2*LN(MAX(F30,0.0000000001)))*COS(2*PI()*G30) -> -1.2871623 | I30: =History!C167+History!D167*H30 -> 20.146761 | K30: =RAND() -> 0.31213724 | L30: =RAND() -> 0.68961046 | M30: =SQRT(-2*LN(MAX(K30,0.0000000001)))*COS(2*PI()*L30) -> -0.56522285 | N30: =History!C168+History!D168*M30 -> 16.116038
A31: =RAND() -> 0.39334773 | B31: =RAND() -> 0.32060344 | C31: =SQRT(-2*LN(MAX(A31,0.0000000001)))*COS(2*PI()*B31) -> -0.58632274 | D31: =History!C166+History!D166*C31 -> 40.020304 | F31: =RAND() -> 0.23637923 | G31: =RAND() -> 0.76264382 | H31: =SQRT(-2*LN(MAX(F31,0.0000000001)))*COS(2*PI()*G31) -> 0.13478662 | I31: =History!C167+History!D167*H31 -> 38.041313 | K31: =RAND() -> 0.58589032 | L31: =RAND() -> 0.91302746 | M31: =SQRT(-2*LN(MAX(K31,0.0000000001)))*COS(2*PI()*L31) -> 0.88345251 | N31: =History!C168+History!D168*M31 -> 38.000634
A32: =RAND() -> 0.33282204 | B32: =RAND() -> 0.017041821 | C32: =SQRT(-2*LN(MAX(A32,0.0000000001)))*COS(2*PI()*B32) -> 1.4748436 | D32: =History!C166+History!D166*C32 -> 68.629671 | F32: =RAND() -> 0.48242892 | G32: =RAND() -> 0.13520088 | H32: =SQRT(-2*LN(MAX(F32,0.0000000001)))*COS(2*PI()*G32) -> 0.79733203 | I32: =History!C167+History!D167*H32 -> 46.379133 | K32: =RAND() -> 0.52946465 | L32: =RAND() -> 0.18353093 | M32: =SQRT(-2*LN(MAX(K32,0.0000000001)))*COS(2*PI()*L32) -> 0.45741017 | N32: =History!C168+History!D168*M32 -> 31.564572
A33: =RAND() -> 0.88695437 | B33: =RAND() -> 0.056550237 | C33: =SQRT(-2*LN(MAX(A33,0.0000000001)))*COS(2*PI()*B33) -> 0.4592241 | D33: =History!C166+History!D166*C33 -> 54.532686 | F33: =RAND() -> 0.81970684 | G33: =RAND() -> 0.56014545 | H33: =SQRT(-2*LN(MAX(F33,0.0000000001)))*COS(2*PI()*G33) -> -0.58607567 | I33: =History!C167+History!D167*H33 -> 28.969603 | K33: =RAND() -> 0.17041648 | L33: =RAND() -> 0.2312147 | M33: =SQRT(-2*LN(MAX(K33,0.0000000001)))*COS(2*PI()*L33) -> 0.22152904 | N33: =History!C168+History!D168*M33 -> 28.001204
A34: =RAND() -> 0.50527777 | B34: =RAND() -> 0.99713653 | C34: =SQRT(-2*LN(MAX(A34,0.0000000001)))*COS(2*PI()*B34) -> 1.1682688 | D34: =History!C166+History!D166*C34 -> 64.374357 | F34: =RAND() -> 0.15083199 | G34: =RAND() -> 0.498984 | H34: =SQRT(-2*LN(MAX(F34,0.0000000001)))*COS(2*PI()*G34) -> -1.9449995 | I34: =History!C167+History!D167*H34 -> 11.868191 | K34: =RAND() -> 0.0066566781 | L34: =RAND() -> 0.6575647 | M34: =SQRT(-2*LN(MAX(K34,0.0000000001)))*COS(2*PI()*L34) -> -1.7371922 | N34: =History!C168+History!D168*M34 -> -1.5884643
A35: =RAND() -> 0.25895815 | B35: =RAND() -> 0.21207164 | C35: =SQRT(-2*LN(MAX(A35,0.0000000001)))*COS(2*PI()*B35) -> 0.38804524 | D35: =History!C166+History!D166*C35 -> 53.54471 | F35: =RAND() -> 0.090808977 | G35: =RAND() -> 0.82684968 | H35: =SQRT(-2*LN(MAX(F35,0.0000000001)))*COS(2*PI()*G35) -> 1.0170502 | I35: =History!C167+History!D167*H35 -> 49.144182 | K35: =RAND() -> 0.51963168 | L35: =RAND() -> 0.14659049 | M35: =SQRT(-2*LN(MAX(K35,0.0000000001)))*COS(2*PI()*L35) -> 0.69223863 | N35: =History!C168+History!D168*M35 -> 35.112038
A36: =RAND() -> 0.15692693 | B36: =RAND() -> 0.15345905 | C36: =SQRT(-2*LN(MAX(A36,0.0000000001)))*COS(2*PI()*B36) -> 1.0971266 | D36: =History!C166+History!D166*C36 -> 63.38689 | F36: =RAND() -> 0.054355017 | G36: =RAND() -> 0.90395403 | H36: =SQRT(-2*LN(MAX(F36,0.0000000001)))*COS(2*PI()*G36) -> 1.9871073 | I36: =History!C167+History!D167*H36 -> 61.351891 | K36: =RAND() -> 0.3219678 | L36: =RAND() -> 0.27324282 | M36: =SQRT(-2*LN(MAX(K36,0.0000000001)))*COS(2*PI()*L36) -> -0.2190847 | N36: =History!C168+History!D168*M36 -> 21.345017
A37: =RAND() -> 0.7797984 | B37: =RAND() -> 0.17910346 | C37: =SQRT(-2*LN(MAX(A37,0.0000000001)))*COS(2*PI()*B37) -> 0.3038897 | D37: =History!C166+History!D166*C37 -> 52.376616 | F37: =RAND() -> 0.79082009 | G37: =RAND() -> 0.82912374 | H37: =SQRT(-2*LN(MAX(F37,0.0000000001)))*COS(2*PI()*G37) -> 0.3267417 | I37: =History!C167+History!D167*H37 -> 40.456977 | K37: =RAND() -> 0.30602535 | L37: =RAND() -> 0.39326072 | M37: =SQRT(-2*LN(MAX(K37,0.0000000001)))*COS(2*PI()*L37) -> -1.2055798 | N37: =History!C168+History!D168*M37 -> 6.4424049
A38: =RAND() -> 0.22892275 | B38: =RAND() -> 0.831018 | C38: =SQRT(-2*LN(MAX(A38,0.0000000001)))*COS(2*PI()*B38) -> 0.83687065 | D38: =History!C166+History!D166*C38 -> 59.77449 | F38: =RAND() -> 0.61729497 | G38: =RAND() -> 0.16661076 | H38: =SQRT(-2*LN(MAX(F38,0.0000000001)))*COS(2*PI()*G38) -> 0.49142417 | I38: =History!C167+History!D167*H38 -> 42.529428 | K38: =RAND() -> 0.2068455 | L38: =RAND() -> 0.80085395 | M38: =SQRT(-2*LN(MAX(K38,0.0000000001)))*COS(2*PI()*L38) -> 0.55763823 | N38: =History!C168+History!D168*M38 -> 33.07868
A39: =RAND() -> 0.75822451 | B39: =RAND() -> 0.66596112 | C39: =SQRT(-2*LN(MAX(A39,0.0000000001)))*COS(2*PI()*B39) -> -0.37485794 | D39: =History!C166+History!D166*C39 -> 42.955474 | F39: =RAND() -> 0.44649813 | G39: =RAND() -> 0.92506422 | H39: =SQRT(-2*LN(MAX(F39,0.0000000001)))*COS(2*PI()*G39) -> 1.1317197 | I39: =History!C167+History!D167*H39 -> 50.587243 | K39: =RAND() -> 0.16601536 | L39: =RAND() -> 0.24635231 | M39: =SQRT(-2*LN(MAX(K39,0.0000000001)))*COS(2*PI()*L39) -> 0.04342983 | N39: =History!C168+History!D168*M39 -> 25.310726
A40: =RAND() -> 0.19654006 | B40: =RAND() -> 0.23354606 | C40: =SQRT(-2*LN(MAX(A40,0.0000000001)))*COS(2*PI()*B40) -> 0.18615296 | D40: =History!C166+History!D166*C40 -> 50.742409 | F40: =RAND() -> 0.6510913 | G40: =RAND() -> 0.62170292 | H40: =SQRT(-2*LN(MAX(F40,0.0000000001)))*COS(2*PI()*G40) -> -0.66849022 | I40: =History!C167+History!D167*H40 -> 27.932455 | K40: =RAND() -> 0.6810326 | L40: =RAND() -> 0.3148921 | M40: =SQRT(-2*LN(MAX(K40,0.0000000001)))*COS(2*PI()*L40) -> -0.34756326 | N40: =History!C168+History!D168*M40 -> 19.40414
A41: =RAND() -> 0.67905775 | B41: =RAND() -> 0.041478928 | C41: =SQRT(-2*LN(MAX(A41,0.0000000001)))*COS(2*PI()*B41) -> 0.8501171 | D41: =History!C166+History!D166*C41 -> 59.958353 | F41: =RAND() -> 0.77962047 | G41: =RAND() -> 0.93434709 | H41: =SQRT(-2*LN(MAX(F41,0.0000000001)))*COS(2*PI()*G41) -> 0.64642868 | I41: =History!C167+History!D167*H41 -> 44.480086 | K41: =RAND() -> 0.049678859 | L41: =RAND() -> 0.37731603 | M41: =SQRT(-2*LN(MAX(K41,0.0000000001)))*COS(2*PI()*L41) -> -1.7577085 | N41: =History!C168+History!D168*M41 -> -1.8983958
...

Sheet KPI
A1: Probabilité de succès par métrique = NORMDIST(cible, DB[classe].moy, DB[classe].ét, VRAI) — utilise la référence FIXE 'DB' (Overview), pas les stats nettoyées en direct de History. Probabilité globale = MIN des 4 métriques (pas une moyenne), comme calcProb()/updateKPI() (JS). Valeurs cibles Pluto croisées avec TnS_PLUTO_PROJECT_3-3_POC.xlsx.
A3: Projet cible | B3: Pluto
A4: Complexité | B4: Innovative
A5: Durée cible (années) | B5: 2.5
A6: Durée cible (mois, formule) | B6: =B5*12 -> 30
A7: Effort cible (mxy) | B7: 6
A8: Révisions cible (nb) | B8: 3
A9: Coût cible (k€) | B9: 2500
A10: Cible de succès (%) | B10: 0.8
A12: Métrique | B12: Cible | C12: DB[Innovative] moyenne | D12: DB[Innovative] écart-type | E12: Probabilité (%, vivant)
A13: Durée (mois) | B13: =B6 -> 30 | C13: =Overview!C8 -> 36.67 | D13: =Overview!G8 -> 12 | E13: =ROUND(NORMDIST(B13,C13,D13,TRUE)*100,1) -> 28.9
A14: Effort (mxy) | B14: =B7 -> 6 | C14: =Overview!D8 -> 7.21 | D14: =Overview!H8 -> 6.32 | E14: =ROUND(NORMDIST(B14,C14,D14,TRUE)*100,1) -> 42.4
A15: Révisions (nb) | B15: =B8 -> 3 | C15: =Overview!E8 -> 3.06 | D15: =Overview!I8 -> 1.09 | E15: =ROUND(NORMDIST(B15,C15,D15,TRUE)*100,1) -> 47.8
A16: Coût (k€) | B16: =B9 -> 2500 | C16: =Overview!F8 -> 2469 | D16: =Overview!J8 -> 959 | E16: =ROUND(NORMDIST(B16,C16,D16,TRUE)*100,1) -> 51.3
A18: Probabilité globale (MIN des 4, vivant) | B18: =MIN(E13,E14,E15,E16) -> 28.9
A19: Cible (%) | B19: =B10*100 -> 80
A20: Statut | B20: =IF(B18>=B19,"OK","Not OK") -> Not OK

Sheet Dashboard
A1: Catégorie | B1: n (nettoyé) | C1: Moyenne (mois) | D1: Écart-type (mois) | E1: Monte Carlo médiane (mois)
A2: 1st in family | B2: =History!B166 -> 21 | C2: =ROUND(History!C166,2) -> 48.16 | D2: =ROUND(History!D166,2) -> 13.88 | E2: =ROUND('Monte Carlo'!E1007,2) -> 48.3
A3: Innovative | B3: =History!B167 -> 57 | C3: =ROUND(History!C167,2) -> 36.35 | D3: =ROUND(History!D167,2) -> 12.58 | E3: =ROUND('Monte Carlo'!E1008,2) -> 35.73
A4: Follower | B4: =History!B168 -> 71 | C4: =ROUND(History!C168,2) -> 24.65 | D4: =ROUND(History!D168,2) -> 15.11 | E4: =ROUND('Monte Carlo'!E1009,2) -> 24.81
A6: KPI — Projet cible | B6: Pluto
A7: Probabilité globale (%, vivant) | B7: =KPI!B18 -> 28.9
A8: Statut | B8: =KPI!B20 -> Not OK
A10: Synthèse — toutes les valeurs référencent les autres onglets (aucune valeur recopiée en dur).

Sheet Tech Platform
A1: Comparaison de 2 étapes (jalons PLATFORM_STAGES) — logique simple de delta, comme updateTechno() (JS).
A3: Jalon | B3: Slot
A4: Start | B4: 1
A5: Simulation | B5: 2
A6: Test Vehicle | B6: 4
A7: Prototypes | B7: 7
A8: Samples | B8: 10
A9: Pre-Production | B9: 13
A10: Production | B10: 16
A12: Étape actuelle (slot, modifiable) | B12: 2
A13: Étape requise (slot, modifiable) | B13: 10
A14: Écart (trimestres, vivant) | B14: =B13-B12 -> 8
A15: Statut | B15: =IF(B14<=0,"Prêt","Non prêt") -> Non prêt

Sheet Loading
A1: total = LOAD_ABC + LOAD_PLUTO décalé + LOAD_DE ; util = total/HC_BASE ; charge max = HC_BASE×1,10 (MAX_UTIL) ; HC supplémentaire = ARRONDI.SUP((total-max)/1,10;0) si dépassement — comme computeLoading() (JS). LOAD_ABC/LOAD_PLUTO/LOAD_DE : valeurs de référence, mêmes sources que build.py (à resynchroniser manuellement si celui-ci est relancé).
A3: Trimestre | B3: 3Q25 | C3: 4Q25 | D3: 1Q26 | E3: 2Q26 | F3: 3Q26 | G3: 4Q26 | H3: 1Q27 | I3: 2Q27 | J3: 3Q27 | K3: 4Q27 | L3: 1Q28 | M3: 2Q28
A4: HC_BASE | B4: 6 | C4: 7 | D4: 8 | E4: 8 | F4: 9 | G4: 9 | H4: 9 | I4: 9 | J4: 10 | K4: 11 | L4: 12 | M4: 12
A5: LOAD_ABC (référence) | B5: 6.598 | C5: 4.97 | D5: 4.33 | E5: 3.351 | F5: 1.862 | G5: 0.899 | H5: 0 | I5: 0 | J5: 0 | K5: 0 | L5: 0 | M5: 0
A6: LOAD_DE (référence) | B6: 0 | C6: 0 | D6: 0 | E6: 0 | F6: 2.089 | G6: 5.801 | H6: 6.349 | I6: 7.167 | J6: 3.803 | K6: 8.368 | L6: 9.409 | M6: 5.043
A7: LOAD_PLUTO (référence, non décalé) | B7: 0 | C7: 1.744 | D7: 5.388 | E7: 6.104 | F7: 5.45 | G7: 2.834 | H7: 5.294 | I7: 4.173 | J7: 1.962 | K7: 4.142 | L7: 2.803 | M7: 2.834
A9: Décalage Pluto (plutoSodIdx, modifiable) | B9: 2
A10: shift = plutoSodIdx - 2 | B10: =B9-2 -> 0
A12: LOAD_PLUTO décalé (vivant) | B12: =IF(AND((0-$B$10)>=0,(0-$B$10)<12),INDEX($B$7:$M$7,(0-$B$10)+1),0) -> 0 | C12: =IF(AND((1-$B$10)>=0,(1-$B$10)<12),INDEX($B$7:$M$7,(1-$B$10)+1),0) -> 1.744 | D12: =IF(AND((2-$B$10)>=0,(2-$B$10)<12),INDEX($B$7:$M$7,(2-$B$10)+1),0) -> 5.388 | E12: =IF(AND((3-$B$10)>=0,(3-$B$10)<12),INDEX($B$7:$M$7,(3-$B$10)+1),0) -> 6.104 | F12: =IF(AND((4-$B$10)>=0,(4-$B$10)<12),INDEX($B$7:$M$7,(4-$B$10)+1),0) -> 5.45 | G12: =IF(AND((5-$B$10)>=0,(5-$B$10)<12),INDEX($B$7:$M$7,(5-$B$10)+1),0) -> 2.834 | H12: =IF(AND((6-$B$10)>=0,(6-$B$10)<12),INDEX($B$7:$M$7,(6-$B$10)+1),0) -> 5.294 | I12: =IF(AND((7-$B$10)>=0,(7-$B$10)<12),INDEX($B$7:$M$7,(7-$B$10)+1),0) -> 4.173 | J12: =IF(AND((8-$B$10)>=0,(8-$B$10)<12),INDEX($B$7:$M$7,(8-$B$10)+1),0) -> 1.962 | K12: =IF(AND((9-$B$10)>=0,(9-$B$10)<12),INDEX($B$7:$M$7,(9-$B$10)+1),0) -> 4.142 | L12: =IF(AND((10-$B$10)>=0,(10-$B$10)<12),INDEX($B$7:$M$7,(10-$B$10)+1),0) -> 2.803 | M12: =IF(AND((11-$B$10)>=0,(11-$B$10)<12),INDEX($B$7:$M$7,(11-$B$10)+1),0) -> 2.834
A13: Total (vivant) | B13: =B5+B12+B6 -> 6.598 | C13: =C5+C12+C6 -> 6.714 | D13: =D5+D12+D6 -> 9.718 | E13: =E5+E12+E6 -> 9.455 | F13: =F5+F12+F6 -> 9.401 | G13: =G5+G12+G6 -> 9.534 | H13: =H5+H12+H6 -> 11.643 | I13: =I5+I12+I6 -> 11.34 | ... M13: =M5+M12+M6 -> 7.877
A14: Charge max (HC×1,10) | B14: =B4*1.1 -> 6.6 | C14: =C4*1.1 -> 7.7 | D14: =D4*1.1 -> 8.8 | E14: =E4*1.1 -> 8.8 | F14: =F4*1.1 -> 9.9 | G14: =G4*1.1 -> 9.9 | H14: =H4*1.1 -> 9.9 | I14: =I4*1.1 -> 9.9 | ... M14: =M4*1.1 -> 13.2
A15: Utilisation (vivant) | B15: =B13/B4 -> 1.0996667 | C15: =C13/C4 -> 0.95914286 | D15: =D13/D4 -> 1.21475 | E15: =E13/E4 -> 1.181875 | F15: =F13/F4 -> 1.0445556 | G15: =G13/G4 -> 1.0593333 | H15: =H13/H4 -> 1.2936667 | I15: =I13/I4 -> 1.26 | ... M15: =M13/M4 -> 0.65641667
