Workbook

Sheet Historique
A1: Fort | B1: Moyen | C1: Faible
A2: 2.5838 | B2: 2.9515 | C2: 1.353
A3: 2.0394 | B3: 1.6434 | C3: 0.9611
A4: 2.4969 | B4: 1.7186 | C4: 1.0259
A5: 2.5578 | B5: 2.2323 | C5: 0.7335
A6: 2.7555 | B6: 1.1847 | C6: 0.7214
A7: 3.4706 | B7: 1.9452 | C7: 0.5713
A8: 2.3313 | B8: 1.4763 | C8: 0.6239
A9: 1.9315 | B9: 1.0047 | C9: 0.5513
A10: 2.7325 | B10: 1.0047 | C10: 1.1317
A11: 2.7418 | B11: 1.8969 | C11: 0.747
A12: 2.4414 | B12: 2.3567 | C12: 0.5725
A13: 2.529 | B13: 1.6585 | C13: 0.7462
... A28: 2.6681 | B28: 1.2755 | C28: 1.1145
B29: 1.7046 | C29: 0.5662
B30: 1.4101 | C30: 0.6013
B31: 1.9109 | C31: 0.5862
B32: 3.1298 | C32: 1.2112
B33: 1.667 | C33: 1.2584
B34: 0.9699 | C34: 0.9442
B35: 1.1552 | C35: 1.1469
B36: 1.439 | C36: 1.0164
B37: 1.0118 | C37: 0.5201
B38: 1.3437 | C38: 0.7692
B39: 1.4756 | C39: 0.7138
B40: 2.4627 | C40: 0.9556
... B73: 0.725 | C73: 0.3838
C74: 1.1075
C75: 0.8018
C76: 0.6627
C77: 0.6966
C78: 0.8527
C79: 1.4529
C80: 0.4893
C81: 1.3067
C82: 0.5264
C83: 0.7354
C84: 1.0893
C85: 1.1943
... C233: 0.6804
...

Sheet Nettoyage IQR
A1: Seuil IQR (k) | B1: 2.5
A2: Valeur par défaut du slider JS (id="iqr-k") — modifiable ici, recalcule tout l'onglet.
A4: Catégorie | B4: n (brut) | C4: Q1 | D4: Q3 | E4: IQR | F4: Borne basse | G4: Borne haute | H4: n (nettoyé) | I4: Moyenne | J4: Écart-type | K4: Min | L4: Max | M4: Médiane | N4: CV
A5: Fort | B5: =COUNT(Historique!A2:A28) -> 27 | C5: =QUARTILE(Historique!A2:A28,1) -> 2.4943 | D5: =QUARTILE(Historique!A2:A28,3) -> 2.8199 | E5: =D5-C5 -> 0.3256 | F5: =C5-B1*E5 -> 1.6803 | G5: =D5+B1*E5 -> 3.6339 | H5: =COUNT(P7:P33) -> 25 | I5: =AVERAGE(P7:P33) -> 2.63704 | J5: =STDEV(P7:P33) -> 0.32235278 | K5: =MIN(P7:P33) -> 1.9315 | L5: =MAX(P7:P33) -> 3.4706 | M5: =MEDIAN(P7:P33) -> 2.5838 | N5: =J5/I5 -> 0.12224038
A6: Moyen | B6: =COUNT(Historique!B2:B73) -> 72 | C6: =QUARTILE(Historique!B2:B73,1) -> 1.176775 | D6: =QUARTILE(Historique!B2:B73,3) -> 1.9004 | E6: =D6-C6 -> 0.723625 | F6: =C6-B1*E6 -> -0.6322875 | G6: =D6+B1*E6 -> 3.7094625 | H6: =COUNT(Q7:Q78) -> 72 | I6: =AVERAGE(Q7:Q78) -> 1.5846014 | J6: =STDEV(Q7:Q78) -> 0.54817413 | K6: =MIN(Q7:Q78) -> 0.725 | L6: =MAX(Q7:Q78) -> 3.2403 | M6: =MEDIAN(Q7:Q78) -> 1.485 | N6: =J6/I6 -> 0.34593818 | P6: Fort (nettoyé) | Q6: Moyen (nettoyé) | R6: Faible (nettoyé)
A7: Faible | B7: =COUNT(Historique!C2:C233) -> 232 | C7: =QUARTILE(Historique!C2:C233,1) -> 0.576025 | D7: =QUARTILE(Historique!C2:C233,3) -> 0.9871 | E7: =D7-C7 -> 0.411075 | F7: =C7-B1*E7 -> -0.4516625 | G7: =D7+B1*E7 -> 2.0147875 | H7: =COUNT(R7:R238) -> 229 | I7: =AVERAGE(R7:R238) -> 0.80285546 | J7: =STDEV(R7:R238) -> 0.29903968 | K7: =MIN(R7:R238) -> 0.253 | L7: =MAX(R7:R238) -> 1.9077 | M7: =MEDIAN(R7:R238) -> 0.7431 | N7: =J7/I7 -> 0.37247014 | P7: =IF(AND(Historique!A2>=$F$5,Historique!A2<=$G$5,Historique!A2>0),Historique!A2,"") -> 2.5838 | Q7: =IF(AND(Historique!B2>=$F$6,Historique!B2<=$G$6,Historique!B2>0),Historique!B2,"") -> 2.9515 | R7: =IF(AND(Historique!C2>=$F$7,Historique!C2<=$G$7,Historique!C2>0),Historique!C2,"") -> 1.353
P8: =IF(AND(Historique!A3>=$F$5,Historique!A3<=$G$5,Historique!A3>0),Historique!A3,"") -> 2.0394 | Q8: =IF(AND(Historique!B3>=$F$6,Historique!B3<=$G$6,Historique!B3>0),Historique!B3,"") -> 1.6434 | R8: =IF(AND(Historique!C3>=$F$7,Historique!C3<=$G$7,Historique!C3>0),Historique!C3,"") -> 0.9611
P9: =IF(AND(Historique!A4>=$F$5,Historique!A4<=$G$5,Historique!A4>0),Historique!A4,"") -> 2.4969 | Q9: =IF(AND(Historique!B4>=$F$6,Historique!B4<=$G$6,Historique!B4>0),Historique!B4,"") -> 1.7186 | R9: =IF(AND(Historique!C4>=$F$7,Historique!C4<=$G$7,Historique!C4>0),Historique!C4,"") -> 1.0259
P10: =IF(AND(Historique!A5>=$F$5,Historique!A5<=$G$5,Historique!A5>0),Historique!A5,"") -> 2.5578 | Q10: =IF(AND(Historique!B5>=$F$6,Historique!B5<=$G$6,Historique!B5>0),Historique!B5,"") -> 2.2323 | R10: =IF(AND(Historique!C5>=$F$7,Historique!C5<=$G$7,Historique!C5>0),Historique!C5,"") -> 0.7335
P11: =IF(AND(Historique!A6>=$F$5,Historique!A6<=$G$5,Historique!A6>0),Historique!A6,"") -> 2.7555 | Q11: =IF(AND(Historique!B6>=$F$6,Historique!B6<=$G$6,Historique!B6>0),Historique!B6,"") -> 1.1847 | R11: =IF(AND(Historique!C6>=$F$7,Historique!C6<=$G$7,Historique!C6>0),Historique!C6,"") -> 0.7214
P12: =IF(AND(Historique!A7>=$F$5,Historique!A7<=$G$5,Historique!A7>0),Historique!A7,"") -> 3.4706 | Q12: =IF(AND(Historique!B7>=$F$6,Historique!B7<=$G$6,Historique!B7>0),Historique!B7,"") -> 1.9452 | R12: =IF(AND(Historique!C7>=$F$7,Historique!C7<=$G$7,Historique!C7>0),Historique!C7,"") -> 0.5713
P13: =IF(AND(Historique!A8>=$F$5,Historique!A8<=$G$5,Historique!A8>0),Historique!A8,"") -> 2.3313 | Q13: =IF(AND(Historique!B8>=$F$6,Historique!B8<=$G$6,Historique!B8>0),Historique!B8,"") -> 1.4763 | R13: =IF(AND(Historique!C8>=$F$7,Historique!C8<=$G$7,Historique!C8>0),Historique!C8,"") -> 0.6239
P14: =IF(AND(Historique!A9>=$F$5,Historique!A9<=$G$5,Historique!A9>0),Historique!A9,"") -> 1.9315 | Q14: =IF(AND(Historique!B9>=$F$6,Historique!B9<=$G$6,Historique!B9>0),Historique!B9,"") -> 1.0047 | R14: =IF(AND(Historique!C9>=$F$7,Historique!C9<=$G$7,Historique!C9>0),Historique!C9,"") -> 0.5513
P15: =IF(AND(Historique!A10>=$F$5,Historique!A10<=$G$5,Historique!A10>0),Historique!A10,"") -> 2.7325 | Q15: =IF(AND(Historique!B10>=$F$6,Historique!B10<=$G$6,Historique!B10>0),Historique!B10,"") -> 1.0047 | R15: =IF(AND(Historique!C10>=$F$7,Historique!C10<=$G$7,Historique!C10>0),Historique!C10,"") -> 1.1317
P16: =IF(AND(Historique!A11>=$F$5,Historique!A11<=$G$5,Historique!A11>0),Historique!A11,"") -> 2.7418 | Q16: =IF(AND(Historique!B11>=$F$6,Historique!B11<=$G$6,Historique!B11>0),Historique!B11,"") -> 1.8969 | R16: =IF(AND(Historique!C11>=$F$7,Historique!C11<=$G$7,Historique!C11>0),Historique!C11,"") -> 0.747
P17: =IF(AND(Historique!A12>=$F$5,Historique!A12<=$G$5,Historique!A12>0),Historique!A12,"") -> 2.4414 | Q17: =IF(AND(Historique!B12>=$F$6,Historique!B12<=$G$6,Historique!B12>0),Historique!B12,"") -> 2.3567 | R17: =IF(AND(Historique!C12>=$F$7,Historique!C12<=$G$7,Historique!C12>0),Historique!C12,"") -> 0.5725
P18: =IF(AND(Historique!A13>=$F$5,Historique!A13<=$G$5,Historique!A13>0),Historique!A13,"") -> 2.529 | Q18: =IF(AND(Historique!B13>=$F$6,Historique!B13<=$G$6,Historique!B13>0),Historique!B13,"") -> 1.6585 | R18: =IF(AND(Historique!C13>=$F$7,Historique!C13<=$G$7,Historique!C13>0),Historique!C13,"") -> 0.7462
P19: =IF(AND(Historique!A14>=$F$5,Historique!A14<=$G$5,Historique!A14>0),Historique!A14,"") -> 2.403 | Q19: =IF(AND(Historique!B14>=$F$6,Historique!B14<=$G$6,Historique!B14>0),Historique!B14,"") -> 1.649 | R19: =IF(AND(Historique!C14>=$F$7,Historique!C14<=$G$7,Historique!C14>0),Historique!C14,"") -> 1.2446
... P33: =IF(AND(Historique!A28>=$F$5,Historique!A28<=$G$5,Historique!A28>0),Historique!A28,"") -> 2.6681 | Q33: =IF(AND(Historique!B28>=$F$6,Historique!B28<=$G$6,Historique!B28>0),Historique!B28,"") -> 1.2755 | R33: =IF(AND(Historique!C28>=$F$7,Historique!C28<=$G$7,Historique!C28>0),Historique!C28,"") -> 1.1145
Q34: =IF(AND(Historique!B29>=$F$6,Historique!B29<=$G$6,Historique!B29>0),Historique!B29,"") -> 1.7046 | R34: =IF(AND(Historique!C29>=$F$7,Historique!C29<=$G$7,Historique!C29>0),Historique!C29,"") -> 0.5662
Q35: =IF(AND(Historique!B30>=$F$6,Historique!B30<=$G$6,Historique!B30>0),Historique!B30,"") -> 1.4101 | R35: =IF(AND(Historique!C30>=$F$7,Historique!C30<=$G$7,Historique!C30>0),Historique!C30,"") -> 0.6013
Q36: =IF(AND(Historique!B31>=$F$6,Historique!B31<=$G$6,Historique!B31>0),Historique!B31,"") -> 1.9109 | R36: =IF(AND(Historique!C31>=$F$7,Historique!C31<=$G$7,Historique!C31>0),Historique!C31,"") -> 0.5862
Q37: =IF(AND(Historique!B32>=$F$6,Historique!B32<=$G$6,Historique!B32>0),Historique!B32,"") -> 3.1298 | R37: =IF(AND(Historique!C32>=$F$7,Historique!C32<=$G$7,Historique!C32>0),Historique!C32,"") -> 1.2112
Q38: =IF(AND(Historique!B33>=$F$6,Historique!B33<=$G$6,Historique!B33>0),Historique!B33,"") -> 1.667 | R38: =IF(AND(Historique!C33>=$F$7,Historique!C33<=$G$7,Historique!C33>0),Historique!C33,"") -> 1.2584
Q39: =IF(AND(Historique!B34>=$F$6,Historique!B34<=$G$6,Historique!B34>0),Historique!B34,"") -> 0.9699 | R39: =IF(AND(Historique!C34>=$F$7,Historique!C34<=$G$7,Historique!C34>0),Historique!C34,"") -> 0.9442
Q40: =IF(AND(Historique!B35>=$F$6,Historique!B35<=$G$6,Historique!B35>0),Historique!B35,"") -> 1.1552 | R40: =IF(AND(Historique!C35>=$F$7,Historique!C35<=$G$7,Historique!C35>0),Historique!C35,"") -> 1.1469
Q41: =IF(AND(Historique!B36>=$F$6,Historique!B36<=$G$6,Historique!B36>0),Historique!B36,"") -> 1.439 | R41: =IF(AND(Historique!C36>=$F$7,Historique!C36<=$G$7,Historique!C36>0),Historique!C36,"") -> 1.0164
Q42: =IF(AND(Historique!B37>=$F$6,Historique!B37<=$G$6,Historique!B37>0),Historique!B37,"") -> 1.0118 | R42: =IF(AND(Historique!C37>=$F$7,Historique!C37<=$G$7,Historique!C37>0),Historique!C37,"") -> 0.5201
Q43: =IF(AND(Historique!B38>=$F$6,Historique!B38<=$G$6,Historique!B38>0),Historique!B38,"") -> 1.3437 | R43: =IF(AND(Historique!C38>=$F$7,Historique!C38<=$G$7,Historique!C38>0),Historique!C38,"") -> 0.7692
Q44: =IF(AND(Historique!B39>=$F$6,Historique!B39<=$G$6,Historique!B39>0),Historique!B39,"") -> 1.4756 | R44: =IF(AND(Historique!C39>=$F$7,Historique!C39<=$G$7,Historique!C39>0),Historique!C39,"") -> 0.7138
Q45: =IF(AND(Historique!B40>=$F$6,Historique!B40<=$G$6,Historique!B40>0),Historique!B40,"") -> 2.4627 | R45: =IF(AND(Historique!C40>=$F$7,Historique!C40<=$G$7,Historique!C40>0),Historique!C40,"") -> 0.9556
... Q78: =IF(AND(Historique!B73>=$F$6,Historique!B73<=$G$6,Historique!B73>0),Historique!B73,"") -> 0.725 | R78: =IF(AND(Historique!C73>=$F$7,Historique!C73<=$G$7,Historique!C73>0),Historique!C73,"") -> 0.3838
R79: =IF(AND(Historique!C74>=$F$7,Historique!C74<=$G$7,Historique!C74>0),Historique!C74,"") -> 1.1075
R80: =IF(AND(Historique!C75>=$F$7,Historique!C75<=$G$7,Historique!C75>0),Historique!C75,"") -> 0.8018
R81: =IF(AND(Historique!C76>=$F$7,Historique!C76<=$G$7,Historique!C76>0),Historique!C76,"") -> 0.6627
R82: =IF(AND(Historique!C77>=$F$7,Historique!C77<=$G$7,Historique!C77>0),Historique!C77,"") -> 0.6966
R83: =IF(AND(Historique!C78>=$F$7,Historique!C78<=$G$7,Historique!C78>0),Historique!C78,"") -> 0.8527
R84: =IF(AND(Historique!C79>=$F$7,Historique!C79<=$G$7,Historique!C79>0),Historique!C79,"") -> 1.4529
R85: =IF(AND(Historique!C80>=$F$7,Historique!C80<=$G$7,Historique!C80>0),Historique!C80,"") -> 0.4893
R86: =IF(AND(Historique!C81>=$F$7,Historique!C81<=$G$7,Historique!C81>0),Historique!C81,"") -> 1.3067
...

Sheet Modèle
A1: Paramètres de référence (MODEL_PARAMS/MODEL_MSE/BEST_MODEL du HTML, non recalculés — méthodologie de fit non extractible du JS). Seules les colonnes CDF ci-dessous sont des formules vivantes.
A3: Catégorie : Fort
A4: Loi | B4: Param 1 | C4: Param 2 | D4: MSE (référence) | E4: Meilleur modèle ?
A5: Gaussienne | B5: 2.6557 | C5: 0.4589 | D5: 0.00449
A6: Log-Normale | B6: 0.17333 | C6: 2.6165 | D6: 0.00361 | E6: Oui
A7: Weibull | B7: 6.38 | C7: 2.82 | D7: 0.00699
A8: Gamma | B8: 34.9 | C8: 0.0761 | D8: 0.00371
A9: Exponentielle | B9: 0.3765 | D9: 0.06436
A10: Poisson | B10: 2.6557 | D10: 0.04543
A12: Catégorie : Moyen
A13: Loi | B13: Param 1 | C13: Param 2 | D13: MSE (référence) | E13: Meilleur modèle ?
A14: Gaussienne | B14: 1.583 | C14: 0.5331 | D14: 0.00368
A15: Log-Normale | B15: 0.31614 | C15: 1.5036 | D15: 0.00068 | E15: Oui
A16: Weibull | B16: 3.14 | C16: 1.751 | D16: 0.00368
A17: Gamma | B17: 8.82 | C17: 0.1795 | D17: 0.00127
A18: Exponentielle | B18: 0.6317 | D18: 0.04409
A19: Poisson | B19: 1.583 | D19: 0.0404
A21: Catégorie : Faible
A22: Loi | B22: Param 1 | C22: Param 2 | D22: MSE (référence) | E22: Meilleur modèle ?
A23: Gaussienne | B23: 0.8138 | C23: 0.3257 | D23: 0.00199
A24: Log-Normale | B24: 0.38 | C24: 0.755 | D24: 0.0006
A25: Weibull | B25: 2.62 | C25: 0.919 | D25: 0.00138
A26: Gamma | B26: 6.2805 | C26: 0.12958 | D26: 0.00047 | E26: Oui
A27: Exponentielle | B27: 1.229 | D27: 0.03525
A28: Poisson | B28: 0.8138 | D28: 0.03829
A31: Comparaison CDF empirique vs modèle — 10 points répartis entre min et max des données nettoyées (onglet Nettoyage IQR). Formules vivantes (référencent les paramètres ci-dessus).
A33: Catégorie : Fort
A34: X (jours) | B34: Empirique | C34: Gaussienne | D34: Log-Normale | E34: Weibull | F34: Gamma | G34: Exponentielle | H34: Poisson
A35: ='Nettoyage IQR'!K5+(0)*('Nettoyage IQR'!L5-'Nettoyage IQR'!K5)/9 -> 1.9315 | B35: =COUNTIF('Nettoyage IQR'!P7:P33,"<="&A35)/'Nettoyage IQR'!H5 -> 0.04 | C35: =NORMDIST(A35,$B$5,$C$5,TRUE) -> 0.057268839 | D35: =IF(A35>0,LOGNORMDIST(A35,LN($C$6),$B$6),0) -> 0.039953176 | E35: =WEIBULL(A35,$B$7,$C$7,TRUE) -> 0.085535623 | F35: =GAMMADIST(A35,$B$8,$C$8,TRUE) -> 0.041920135 | G35: =EXPONDIST(A35,$B$9,TRUE) -> 0.51674449 | H35: =POISSON(A35,$B$10,TRUE) -> 0.25681163
A36: ='Nettoyage IQR'!K5+(1)*('Nettoyage IQR'!L5-'Nettoyage IQR'!K5)/9 -> 2.1025111 | B36: =COUNTIF('Nettoyage IQR'!P7:P33,"<="&A36)/'Nettoyage IQR'!H5 -> 0.08 | C36: =NORMDIST(A36,$B$5,$C$5,TRUE) -> 0.1140115 | D36: =IF(A36>0,LOGNORMDIST(A36,LN($C$6),$B$6),0) -> 0.10351313 | E36: =WEIBULL(A36,$B$7,$C$7,TRUE) -> 0.14241225 | F36: =GAMMADIST(A36,$B$8,$C$8,TRUE) -> 0.10185176 | G36: =EXPONDIST(A36,$B$9,TRUE) -> 0.54687871 | H36: =POISSON(A36,$B$10,TRUE) -> 0.50453797
A37: ='Nettoyage IQR'!K5+(2)*('Nettoyage IQR'!L5-'Nettoyage IQR'!K5)/9 -> 2.2735222 | B37: =COUNTIF('Nettoyage IQR'!P7:P33,"<="&A37)/'Nettoyage IQR'!H5 -> 0.08 | C37: =NORMDIST(A37,$B$5,$C$5,TRUE) -> 0.20247517 | D37: =IF(A37>0,LOGNORMDIST(A37,LN($C$6),$B$6),0) -> 0.2087878 | E37: =WEIBULL(A37,$B$7,$C$7,TRUE) -> 0.22354618 | F37: =GAMMADIST(A37,$B$8,$C$8,TRUE) -> 0.20102128 | G37: =EXPONDIST(A37,$B$9,TRUE) -> 0.57513386 | H37: =POISSON(A37,$B$10,TRUE) -> 0.50453797
A38: ='Nettoyage IQR'!K5+(3)*('Nettoyage IQR'!L5-'Nettoyage IQR'!K5)/9 -> 2.4445333 | B38: =COUNTIF('Nettoyage IQR'!P7:P33,"<="&A38)/'Nettoyage IQR'!H5 -> 0.2 | C38: =NORMDIST(A38,$B$5,$C$5,TRUE) -> 0.32270128 | D38: =IF(A38>0,LOGNORMDIST(A38,LN($C$6),$B$6),0) -> 0.34744823 | E38: =WEIBULL(A38,$B$7,$C$7,TRUE) -> 0.33094178 | F38: =GAMMADIST(A38,$B$8,$C$8,TRUE) -> 0.33491929 | G38: =EXPONDIST(A38,$B$9,TRUE) -> 0.60162711 | H38: =POISSON(A38,$B$10,TRUE) -> 0.50453797
A39: ='Nettoyage IQR'!K5+(4)*('Nettoyage IQR'!L5-'Nettoyage IQR'!K5)/9 -> 2.6155444 | B39: =COUNTIF('Nettoyage IQR'!P7:P33,"<="&A39)/'Nettoyage IQR'!H5 -> 0.52 | C39: =NORMDIST(A39,$B$5,$C$5,TRUE) -> 0.46513548 | D39: =IF(A39>0,LOGNORMDIST(A39,LN($C$6),$B$6),0) -> 0.49915928 | E39: =WEIBULL(A39,$B$7,$C$7,TRUE) -> 0.46133798 | F39: =GAMMADIST(A39,$B$8,$C$8,TRUE) -> 0.48657142 | G39: =EXPONDIST(A39,$B$9,TRUE) -> 0.62646833 | H39: =POISSON(A39,$B$10,TRUE) -> 0.50453797
A40: ='Nettoyage IQR'!K5+(5)*('Nettoyage IQR'!L5-'Nettoyage IQR'!K5)/9 -> 2.7865556 | B40: =COUNTIF('Nettoyage IQR'!P7:P33,"<="&A40)/'Nettoyage IQR'!H5 -> 0.8 | C40: =NORMDIST(A40,$B$5,$C$5,TRUE) -> 0.61223557 | D40: =IF(A40>0,LOGNORMDIST(A40,LN($C$6),$B$6),0) -> 0.64180514 | E40: =WEIBULL(A40,$B$7,$C$7,TRUE) -> 0.60414506 | F40: =GAMMADIST(A40,$B$8,$C$8,TRUE) -> 0.63391748 | G40: =EXPONDIST(A40,$B$9,TRUE) -> 0.64976053 | H40: =POISSON(A40,$B$10,TRUE) -> 0.50453797
A41: ='Nettoyage IQR'!K5+(6)*('Nettoyage IQR'!L5-'Nettoyage IQR'!K5)/9 -> 2.9575667 | B41: =COUNTIF('Nettoyage IQR'!P7:P33,"<="&A41)/'Nettoyage IQR'!H5 -> 0.88 | C41: =NORMDIST(A41,$B$5,$C$5,TRUE) -> 0.74466825 | D41: =IF(A41>0,LOGNORMDIST(A41,LN($C$6),$B$6),0) -> 0.76018987 | E41: =WEIBULL(A41,$B$7,$C$7,TRUE) -> 0.74207989 | F41: =GAMMADIST(A41,$B$8,$C$8,TRUE) -> 0.75901443 | G41: =EXPONDIST(A41,$B$9,TRUE) -> 0.67160031 | H41: =POISSON(A41,$B$10,TRUE) -> 0.50453797
A42: ='Nettoyage IQR'!K5+(7)*('Nettoyage IQR'!L5-'Nettoyage IQR'!K5)/9 -> 3.1285778 | B42: =COUNTIF('Nettoyage IQR'!P7:P33,"<="&A42)/'Nettoyage IQR'!H5 -> 0.96 | C42: =NORMDIST(A42,$B$5,$C$5,TRUE) -> 0.84860278 | D42: =IF(A42>0,LOGNORMDIST(A42,LN($C$6),$B$6),0) -> 0.84878064 | E42: =WEIBULL(A42,$B$7,$C$7,TRUE) -> 0.85624632 | F42: =GAMMADIST(A42,$B$8,$C$8,TRUE) -> 0.85325265 | G42: =EXPONDIST(A42,$B$9,TRUE) -> 0.69207823 | H42: =POISSON(A42,$B$10,TRUE) -> 0.72383358
A43: ='Nettoyage IQR'!K5+(8)*('Nettoyage IQR'!L5-'Nettoyage IQR'!K5)/9 -> 3.2995889 | B43: =COUNTIF('Nettoyage IQR'!P7:P33,"<="&A43)/'Nettoyage IQR'!H5 -> 0.96 | C43: =NORMDIST(A43,$B$5,$C$5,TRUE) -> 0.91970854 | D43: =IF(A43>0,LOGNORMDIST(A43,LN($C$6),$B$6),0) -> 0.9095939 | E43: =WEIBULL(A43,$B$7,$C$7,TRUE) -> 0.93437888 | F43: =GAMMADIST(A43,$B$8,$C$8,TRUE) -> 0.91705982 | G43: =EXPONDIST(A43,$B$9,TRUE) -> 0.71127922 | H43: =POISSON(A43,$B$10,TRUE) -> 0.72383358
A44: ='Nettoyage IQR'!K5+(9)*('Nettoyage IQR'!L5-'Nettoyage IQR'!K5)/9 -> 3.4706 | B44: =COUNTIF('Nettoyage IQR'!P7:P33,"<="&A44)/'Nettoyage IQR'!H5 -> 1 | C44: =NORMDIST(A44,$B$5,$C$5,TRUE) -> 0.96211443 | D44: =IF(A44>0,LOGNORMDIST(A44,LN($C$6),$B$6),0) -> 0.94842611 | E44: =WEIBULL(A44,$B$7,$C$7,TRUE) -> 0.97671706 | F44: =GAMMADIST(A44,$B$8,$C$8,TRUE) -> 0.95631651 | G44: =EXPONDIST(A44,$B$9,TRUE) -> 0.7292829 | H44: =POISSON(A44,$B$10,TRUE) -> 0.72383358
A47: Catégorie : Moyen
A48: X (jours) | B48: Empirique | C48: Gaussienne | D48: Log-Normale | E48: Weibull | F48: Gamma | G48: Exponentielle | H48: Poisson
...

Sheet KPI
A1: Catégorie | B1: Cible (référence, jours) | C1: Probabilité recalculée (%) | D1: Carte HTML (référence, %) | E1: Écart (points)
A2: Fort | B2: 3 | C2: =ROUND(NORMDIST(B2,Modèle!B5,Modèle!C5,TRUE)*100,1) -> 77.3 | D2: 77 | E2: =ROUND(C2-D2,1) -> 0.3
A3: Moyen | B3: 2 | C3: =ROUND(NORMDIST(B3,Modèle!B14,Modèle!C14,TRUE)*100,1) -> 78.3 | D3: 78 | E3: =ROUND(C3-D3,1) -> 0.3
A4: Faible | B4: 1 | C4: =ROUND(NORMDIST(B4,Modèle!B23,Modèle!C23,TRUE)*100,1) -> 71.6 | D4: 72 | E4: =ROUND(C4-D4,1) -> -0.4
A6: Colonne C = recalcul réel (NORMDIST sur mu/sig Gaussien de l'onglet Modèle) — les cartes KPI du dashboard (colonne D) ne sont, elles, jamais recalculées par le JS (constaté par lecture du code). Un écart en colonne E n'est donc pas une erreur de ce classeur : c'est un résultat d'audit.
A8: Sensibilité Faible — mêmes 8 cibles que renderKPISensitivity() (HTML)
A9: Cible (jours) | B9: P(succès) Faible (%)
A10: 0.6 | B10: =ROUND(NORMDIST(A10,Modèle!B23,Modèle!C23,TRUE)*100,1) -> 25.6
A11: 0.7 | B11: =ROUND(NORMDIST(A11,Modèle!B23,Modèle!C23,TRUE)*100,1) -> 36.3
A12: 0.8 | B12: =ROUND(NORMDIST(A12,Modèle!B23,Modèle!C23,TRUE)*100,1) -> 48.3
A13: 0.9 | B13: =ROUND(NORMDIST(A13,Modèle!B23,Modèle!C23,TRUE)*100,1) -> 60.4
A14: 1 | B14: =ROUND(NORMDIST(A14,Modèle!B23,Modèle!C23,TRUE)*100,1) -> 71.6
A15: 1.1 | B15: =ROUND(NORMDIST(A15,Modèle!B23,Modèle!C23,TRUE)*100,1) -> 81
A16: 1.2 | B16: =ROUND(NORMDIST(A16,Modèle!B23,Modèle!C23,TRUE)*100,1) -> 88.2
A17: 1.3 | B17: =ROUND(NORMDIST(A17,Modèle!B23,Modèle!C23,TRUE)*100,1) -> 93.2

Sheet Monte Carlo
A1: 1000 tirages/catégorie via RAND() + transformée Box-Muller — non reproductible à l'identique d'un recalcul à l'autre (RAND() change à chaque F9), contrairement au JS qui utilise un générateur à seed fixe. Le JS ne produit en réalité que 500 tirages sur les 1000 annoncés (bug de boucle documenté dans CHANGELOG.md) — ce classeur en génère bien 1000.
A3: Fort — U1 | B3: U2 | C3: Z (Box-Muller) | D3: Tirage (jours) | F3: Moyen — U1 | G3: U2 | H3: Z (Box-Muller) | I3: Tirage (jours) | K3: Faible — U1 | L3: U2 | M3: Z (Box-Muller) | N3: Tirage (jours)
A4: =RAND() -> 0.97073809 | B4: =RAND() -> 0.57578422 | C4: =SQRT(-2*LN(MAX(A4,0.0000000001)))*COS(2*PI()*B4) -> -0.21660413 | D4: =Modèle!B5+Modèle!C5*C4 -> 2.5563004 | F4: =RAND() -> 0.38946563 | G4: =RAND() -> 0.32856358 | H4: =SQRT(-2*LN(MAX(F4,0.0000000001)))*COS(2*PI()*G4) -> -0.65070534 | I4: =Modèle!B14+Modèle!C14*H4 -> 1.236109 | K4: =RAND() -> 0.50557036 | L4: =RAND() -> 0.28936287 | M4: =SQRT(-2*LN(MAX(K4,0.0000000001)))*COS(2*PI()*L4) -> -0.28592942 | N4: =Modèle!B23+Modèle!C23*M4 -> 0.72067279
A5: =RAND() -> 0.020484631 | B5: =RAND() -> 0.23466519 | C5: =SQRT(-2*LN(MAX(A5,0.0000000001)))*COS(2*PI()*B5) -> 0.26826791 | D5: =Modèle!B5+Modèle!C5*C5 -> 2.7788081 | F5: =RAND() -> 0.11534157 | G5: =RAND() -> 0.06092598 | H5: =SQRT(-2*LN(MAX(F5,0.0000000001)))*COS(2*PI()*G5) -> 1.9279562 | I5: =Modèle!B14+Modèle!C14*H5 -> 2.6107934 | K5: =RAND() -> 0.10882816 | L5: =RAND() -> 0.10083229 | M5: =SQRT(-2*LN(MAX(K5,0.0000000001)))*COS(2*PI()*L5) -> 1.6974336 | N5: =Modèle!B23+Modèle!C23*M5 -> 1.3666541
A6: =RAND() -> 0.16563244 | B6: =RAND() -> 0.1584287 | C6: =SQRT(-2*LN(MAX(A6,0.0000000001)))*COS(2*PI()*B6) -> 1.0318479 | D6: =Modèle!B5+Modèle!C5*C6 -> 3.129215 | F6: =RAND() -> 0.20751274 | G6: =RAND() -> 0.78008462 | H6: =SQRT(-2*LN(MAX(F6,0.0000000001)))*COS(2*PI()*G6) -> 0.33323755 | I6: =Modèle!B14+Modèle!C14*H6 -> 1.7606489 | K6: =RAND() -> 0.037113782 | L6: =RAND() -> 0.20301685 | M6: =SQRT(-2*LN(MAX(K6,0.0000000001)))*COS(2*PI()*L6) -> 0.74671905 | N6: =Modèle!B23+Modèle!C23*M6 -> 1.0570064
A7: =RAND() -> 0.53384029 | B7: =RAND() -> 0.75788293 | C7: =SQRT(-2*LN(MAX(A7,0.0000000001)))*COS(2*PI()*B7) -> 0.055471105 | D7: =Modèle!B5+Modèle!C5*C7 -> 2.6811557 | F7: =RAND() -> 0.59416398 | G7: =RAND() -> 0.56266479 | H7: =SQRT(-2*LN(MAX(F7,0.0000000001)))*COS(2*PI()*G7) -> -0.94231448 | I7: =Modèle!B14+Modèle!C14*H7 -> 1.0806522 | K7: =RAND() -> 0.94170956 | L7: =RAND() -> 0.022961091 | M7: =SQRT(-2*LN(MAX(K7,0.0000000001)))*COS(2*PI()*L7) -> 0.34297813 | N7: =Modèle!B23+Modèle!C23*M7 -> 0.92550798
A8: =RAND() -> 0.098549034 | B8: =RAND() -> 0.36864636 | C8: =SQRT(-2*LN(MAX(A8,0.0000000001)))*COS(2*PI()*B8) -> -1.4602696 | D8: =Modèle!B5+Modèle!C5*C8 -> 1.9855823 | F8: =RAND() -> 0.71178574 | G8: =RAND() -> 0.39167188 | H8: =SQRT(-2*LN(MAX(F8,0.0000000001)))*COS(2*PI()*G8) -> -0.64084757 | I8: =Modèle!B14+Modèle!C14*H8 -> 1.2413642 | K8: =RAND() -> 0.079443442 | L8: =RAND() -> 0.97122534 | M8: =SQRT(-2*LN(MAX(K8,0.0000000001)))*COS(2*PI()*L8) -> 2.2139649 | N8: =Modèle!B23+Modèle!C23*M8 -> 1.5348884
A9: =RAND() -> 0.56825971 | B9: =RAND() -> 0.22314028 | C9: =SQRT(-2*LN(MAX(A9,0.0000000001)))*COS(2*PI()*B9) -> 0.17857679 | D9: =Modèle!B5+Modèle!C5*C9 -> 2.7376489 | F9: =RAND() -> 0.39642028 | G9: =RAND() -> 0.30472508 | H9: =SQRT(-2*LN(MAX(F9,0.0000000001)))*COS(2*PI()*G9) -> -0.45859158 | I9: =Modèle!B14+Modèle!C14*H9 -> 1.3385248 | K9: =RAND() -> 0.11334616 | L9: =RAND() -> 0.84053688 | M9: =SQRT(-2*LN(MAX(K9,0.0000000001)))*COS(2*PI()*L9) -> 1.1240855 | N9: =Modèle!B23+Modèle!C23*M9 -> 1.1799146
A10: =RAND() -> 0.15173367 | B10: =RAND() -> 0.6471754 | C10: =SQRT(-2*LN(MAX(A10,0.0000000001)))*COS(2*PI()*B10) -> -1.1691644 | D10: =Modèle!B5+Modèle!C5*C10 -> 2.1191704 | F10: =RAND() -> 0.19268806 | G10: =RAND() -> 0.4444049 | H10: =SQRT(-2*LN(MAX(F10,0.0000000001)))*COS(2*PI()*G10) -> -1.7051653 | I10: =Modèle!B14+Modèle!C14*H10 -> 0.67397639 | K10: =RAND() -> 0.32237181 | L10: =RAND() -> 0.6567425 | M10: =SQRT(-2*LN(MAX(K10,0.0000000001)))*COS(2*PI()*L10) -> -0.83208683 | N10: =Modèle!B23+Modèle!C23*M10 -> 0.54278932
A11: =RAND() -> 0.23749483 | B11: =RAND() -> 0.66927906 | C11: =SQRT(-2*LN(MAX(A11,0.0000000001)))*COS(2*PI()*B11) -> -0.82360667 | D11: =Modèle!B5+Modèle!C5*C11 -> 2.2777469 | F11: =RAND() -> 0.7272028 | G11: =RAND() -> 0.67001954 | H11: =SQRT(-2*LN(MAX(F11,0.0000000001)))*COS(2*PI()*G11) -> -0.3844428 | I11: =Modèle!B14+Modèle!C14*H11 -> 1.3780535 | K11: =RAND() -> 0.5249142 | L11: =RAND() -> 0.36961883 | M11: =SQRT(-2*LN(MAX(K11,0.0000000001)))*COS(2*PI()*L11) -> -0.77522255 | N11: =Modèle!B23+Modèle!C23*M11 -> 0.56131001
A12: =RAND() -> 0.46283608 | B12: =RAND() -> 0.0072608799 | C12: =SQRT(-2*LN(MAX(A12,0.0000000001)))*COS(2*PI()*B12) -> 1.2399839 | D12: =Modèle!B5+Modèle!C5*C12 -> 3.2247286 | F12: =RAND() -> 0.69734845 | G12: =RAND() -> 0.65023093 | H12: =SQRT(-2*LN(MAX(F12,0.0000000001)))*COS(2*PI()*G12) -> -0.49808059 | I12: =Modèle!B14+Modèle!C14*H12 -> 1.3174732 | K12: =RAND() -> 0.8588058 | L12: =RAND() -> 0.93171304 | M12: =SQRT(-2*LN(MAX(K12,0.0000000001)))*COS(2*PI()*L12) -> 0.50173534 | N12: =Modèle!B23+Modèle!C23*M12 -> 0.9772152
A13: =RAND() -> 0.59837209 | B13: =RAND() -> 0.29609701 | C13: =SQRT(-2*LN(MAX(A13,0.0000000001)))*COS(2*PI()*B13) -> -0.2894454 | D13: =Modèle!B5+Modèle!C5*C13 -> 2.5228735 | F13: =RAND() -> 0.38788913 | G13: =RAND() -> 0.39762428 | H13: =SQRT(-2*LN(MAX(F13,0.0000000001)))*COS(2*PI()*G13) -> -1.1012131 | I13: =Modèle!B14+Modèle!C14*H13 -> 0.99594331 | K13: =RAND() -> 0.2069596 | L13: =RAND() -> 0.20250744 | M13: =SQRT(-2*LN(MAX(K13,0.0000000001)))*COS(2*PI()*L13) -> 0.52182886 | N13: =Modèle!B23+Modèle!C23*M13 -> 0.98375966
A14: =RAND() -> 0.11993214 | B14: =RAND() -> 0.079617216 | C14: =SQRT(-2*LN(MAX(A14,0.0000000001)))*COS(2*PI()*B14) -> 1.8071598 | D14: =Modèle!B5+Modèle!C5*C14 -> 3.4850056 | F14: =RAND() -> 0.9035241 | G14: =RAND() -> 0.21369301 | H14: =SQRT(-2*LN(MAX(F14,0.0000000001)))*COS(2*PI()*G14) -> 0.10186924 | I14: =Modèle!B14+Modèle!C14*H14 -> 1.6373065 | K14: =RAND() -> 0.24661443 | L14: =RAND() -> 0.45268978 | M14: =SQRT(-2*LN(MAX(K14,0.0000000001)))*COS(2*PI()*L14) -> -1.5998927 | N14: =Modèle!B23+Modèle!C23*M14 -> 0.29271494
A15: =RAND() -> 0.81991989 | B15: =RAND() -> 0.57492147 | C15: =SQRT(-2*LN(MAX(A15,0.0000000001)))*COS(2*PI()*B15) -> -0.5616147 | D15: =Modèle!B5+Modèle!C5*C15 -> 2.397975 | F15: =RAND() -> 0.76053213 | G15: =RAND() -> 0.83540855 | H15: =SQRT(-2*LN(MAX(F15,0.0000000001)))*COS(2*PI()*G15) -> 0.37828088 | I15: =Modèle!B14+Modèle!C14*H15 -> 1.7846615 | K15: =RAND() -> 0.78129579 | L15: =RAND() -> 0.55672382 | M15: =SQRT(-2*LN(MAX(K15,0.0000000001)))*COS(2*PI()*L15) -> -0.6584171 | N15: =Modèle!B23+Modèle!C23*M15 -> 0.59935355
A16: =RAND() -> 0.88450745 | B16: =RAND() -> 0.65082243 | C16: =SQRT(-2*LN(MAX(A16,0.0000000001)))*COS(2*PI()*B16) -> -0.28913008 | D16: =Modèle!B5+Modèle!C5*C16 -> 2.5230182 | F16: =RAND() -> 0.65116741 | G16: =RAND() -> 0.86946651 | H16: =SQRT(-2*LN(MAX(F16,0.0000000001)))*COS(2*PI()*G16) -> 0.63180888 | I16: =Modèle!B14+Modèle!C14*H16 -> 1.9198173 | K16: =RAND() -> 0.79505241 | L16: =RAND() -> 0.90003988 | M16: =SQRT(-2*LN(MAX(K16,0.0000000001)))*COS(2*PI()*L16) -> 0.54802257 | N16: =Modèle!B23+Modèle!C23*M16 -> 0.99229095
A17: =RAND() -> 0.69880436 | B17: =RAND() -> 0.33311666 | C17: =SQRT(-2*LN(MAX(A17,0.0000000001)))*COS(2*PI()*B17) -> -0.42231246 | D17: =Modèle!B5+Modèle!C5*C17 -> 2.4619008 | F17: =RAND() -> 0.66072794 | G17: =RAND() -> 0.41611235 | H17: =SQRT(-2*LN(MAX(F17,0.0000000001)))*COS(2*PI()*G17) -> -0.78683842 | I17: =Modèle!B14+Modèle!C14*H17 -> 1.1635364 | K17: =RAND() -> 0.022650558 | L17: =RAND() -> 0.12519835 | M17: =SQRT(-2*LN(MAX(K17,0.0000000001)))*COS(2*PI()*L17) -> 1.9437413 | N17: =Modèle!B23+Modèle!C23*M17 -> 1.4468765
A18: =RAND() -> 0.59185744 | B18: =RAND() -> 0.062600242 | C18: =SQRT(-2*LN(MAX(A18,0.0000000001)))*COS(2*PI()*B18) -> 0.94598736 | D18: =Modèle!B5+Modèle!C5*C18 -> 3.0898136 | F18: =RAND() -> 0.89601279 | G18: =RAND() -> 0.17780459 | H18: =SQRT(-2*LN(MAX(F18,0.0000000001)))*COS(2*PI()*G18) -> 0.20535689 | I18: =Modèle!B14+Modèle!C14*H18 -> 1.6924758 | K18: =RAND() -> 0.81003548 | L18: =RAND() -> 0.048437053 | M18: =SQRT(-2*LN(MAX(K18,0.0000000001)))*COS(2*PI()*L18) -> 0.61928815 | N18: =Modèle!B23+Modèle!C23*M18 -> 1.0155022
A19: =RAND() -> 0.42598777 | B19: =RAND() -> 0.97179025 | C19: =SQRT(-2*LN(MAX(A19,0.0000000001)))*COS(2*PI()*B19) -> 1.2859355 | D19: =Modèle!B5+Modèle!C5*C19 -> 3.2458158 | F19: =RAND() -> 0.70972621 | G19: =RAND() -> 0.38503211 | H19: =SQRT(-2*LN(MAX(F19,0.0000000001)))*COS(2*PI()*G19) -> -0.62127852 | I19: =Modèle!B14+Modèle!C14*H19 -> 1.2517964 | K19: =RAND() -> 0.61631995 | L19: =RAND() -> 0.30778753 | M19: =SQRT(-2*LN(MAX(K19,0.0000000001)))*COS(2*PI()*L19) -> -0.34943144 | N19: =Modèle!B23+Modèle!C23*M19 -> 0.69999018
A20: =RAND() -> 0.65229435 | B20: =RAND() -> 0.27595189 | C20: =SQRT(-2*LN(MAX(A20,0.0000000001)))*COS(2*PI()*B20) -> -0.15006635 | D20: =Modèle!B5+Modèle!C5*C20 -> 2.5868345 | F20: =RAND() -> 0.89794283 | G20: =RAND() -> 0.90057776 | H20: =SQRT(-2*LN(MAX(F20,0.0000000001)))*COS(2*PI()*G20) -> 0.37637302 | I20: =Modèle!B14+Modèle!C14*H20 -> 1.7836445 | K20: =RAND() -> 0.20309423 | L20: =RAND() -> 0.53786745 | M20: =SQRT(-2*LN(MAX(K20,0.0000000001)))*COS(2*PI()*L20) -> -1.7352431 | N20: =Modèle!B23+Modèle!C23*M20 -> 0.24863132
A21: =RAND() -> 0.331532 | B21: =RAND() -> 0.97183719 | C21: =SQRT(-2*LN(MAX(A21,0.0000000001)))*COS(2*PI()*B21) -> 1.4627514 | D21: =Modèle!B5+Modèle!C5*C21 -> 3.3269566 | F21: =RAND() -> 0.60878581 | G21: =RAND() -> 0.64903016 | H21: =SQRT(-2*LN(MAX(F21,0.0000000001)))*COS(2*PI()*G21) -> -0.59050047 | I21: =Modèle!B14+Modèle!C14*H21 -> 1.2682042 | K21: =RAND() -> 0.18448188 | L21: =RAND() -> 0.39462093 | M21: =SQRT(-2*LN(MAX(K21,0.0000000001)))*COS(2*PI()*L21) -> -1.4500819 | N21: =Modèle!B23+Modèle!C23*M21 -> 0.34150833
A22: =RAND() -> 0.59783079 | B22: =RAND() -> 0.66035535 | C22: =SQRT(-2*LN(MAX(A22,0.0000000001)))*COS(2*PI()*B22) -> -0.54159947 | D22: =Modèle!B5+Modèle!C5*C22 -> 2.40716 | F22: =RAND() -> 0.49545562 | G22: =RAND() -> 0.47989551 | H22: =SQRT(-2*LN(MAX(F22,0.0000000001)))*COS(2*PI()*G22) -> -1.1756963 | I22: =Modèle!B14+Modèle!C14*H22 -> 0.95623632 | K22: =RAND() -> 0.99505018 | L22: =RAND() -> 0.60154949 | M22: =SQRT(-2*LN(MAX(K22,0.0000000001)))*COS(2*PI()*L22) -> -0.080020718 | N22: =Modèle!B23+Modèle!C23*M22 -> 0.78773725
A23: =RAND() -> 0.32113726 | B23: =RAND() -> 0.39059883 | C23: =SQRT(-2*LN(MAX(A23,0.0000000001)))*COS(2*PI()*B23) -> -1.1649552 | D23: =Modèle!B5+Modèle!C5*C23 -> 2.121102 | F23: =RAND() -> 0.76869719 | G23: =RAND() -> 0.1129743 | H23: =SQRT(-2*LN(MAX(F23,0.0000000001)))*COS(2*PI()*G23) -> 0.55014562 | I23: =Modèle!B14+Modèle!C14*H23 -> 1.8762826 | K23: =RAND() -> 0.3141231 | L23: =RAND() -> 0.46896503 | M23: =SQRT(-2*LN(MAX(K23,0.0000000001)))*COS(2*PI()*L23) -> -1.4929799 | N23: =Modèle!B23+Modèle!C23*M23 -> 0.32753646
A24: =RAND() -> 0.89164306 | B24: =RAND() -> 0.2869074 | C24: =SQRT(-2*LN(MAX(A24,0.0000000001)))*COS(2*PI()*B24) -> -0.1100704 | D24: =Modèle!B5+Modèle!C5*C24 -> 2.6051887 | F24: =RAND() -> 0.50741065 | G24: =RAND() -> 0.49385984 | H24: =SQRT(-2*LN(MAX(F24,0.0000000001)))*COS(2*PI()*G24) -> -1.1639806 | I24: =Modèle!B14+Modèle!C14*H24 -> 0.96248197 | K24: =RAND() -> 0.60358492 | L24: =RAND() -> 0.054045263 | M24: =SQRT(-2*LN(MAX(K24,0.0000000001)))*COS(2*PI()*L24) -> 0.94747525 | N24: =Modèle!B23+Modèle!C23*M24 -> 1.1223927
A25: =RAND() -> 0.83368098 | B25: =RAND() -> 0.82752791 | C25: =SQRT(-2*LN(MAX(A25,0.0000000001)))*COS(2*PI()*B25) -> 0.28233272 | D25: =Modèle!B5+Modèle!C5*C25 -> 2.7852625 | F25: =RAND() -> 0.7169219 | G25: =RAND() -> 0.65176161 | H25: =SQRT(-2*LN(MAX(F25,0.0000000001)))*COS(2*PI()*G25) -> -0.4721975 | I25: =Modèle!B14+Modèle!C14*H25 -> 1.3312715 | K25: =RAND() -> 0.09465219 | L25: =RAND() -> 0.44148935 | M25: =SQRT(-2*LN(MAX(K25,0.0000000001)))*COS(2*PI()*L25) -> -2.0263329 | N25: =Modèle!B23+Modèle!C23*M25 -> 0.15382337
A26: =RAND() -> 0.11903007 | B26: =RAND() -> 0.28873081 | C26: =SQRT(-2*LN(MAX(A26,0.0000000001)))*COS(2*PI()*B26) -> -0.49714257 | D26: =Modèle!B5+Modèle!C5*C26 -> 2.4275613 | F26: =RAND() -> 0.24026641 | G26: =RAND() -> 0.7391574 | H26: =SQRT(-2*LN(MAX(F26,0.0000000001)))*COS(2*PI()*G26) -> -0.11496171 | I26: =Modèle!B14+Modèle!C14*H26 -> 1.5217139 | K26: =RAND() -> 0.26283002 | L26: =RAND() -> 0.41915836 | M26: =SQRT(-2*LN(MAX(K26,0.0000000001)))*COS(2*PI()*L26) -> -1.4283812 | N26: =Modèle!B23+Modèle!C23*M26 -> 0.34857626
A27: =RAND() -> 0.96426845 | B27: =RAND() -> 0.50034733 | C27: =SQRT(-2*LN(MAX(A27,0.0000000001)))*COS(2*PI()*B27) -> -0.26976053 | D27: =Modèle!B5+Modèle!C5*C27 -> 2.5319069 | F27: =RAND() -> 0.010392552 | G27: =RAND() -> 0.99759122 | H27: =SQRT(-2*LN(MAX(F27,0.0000000001)))*COS(2*PI()*G27) -> 3.0217941 | I27: =Modèle!B14+Modèle!C14*H27 -> 3.1939184 | K27: =RAND() -> 0.35867312 | L27: =RAND() -> 0.96668921 | M27: =SQRT(-2*LN(MAX(K27,0.0000000001)))*COS(2*PI()*L27) -> 1.4007713 | N27: =Modèle!B23+Modèle!C23*M27 -> 1.2700312
A28: =RAND() -> 0.76962429 | B28: =RAND() -> 0.60620703 | C28: =SQRT(-2*LN(MAX(A28,0.0000000001)))*COS(2*PI()*B28) -> -0.56843525 | D28: =Modèle!B5+Modèle!C5*C28 -> 2.3948451 | F28: =RAND() -> 0.35914478 | G28: =RAND() -> 0.11478229 | H28: =SQRT(-2*LN(MAX(F28,0.0000000001)))*COS(2*PI()*G28) -> 1.0747807 | I28: =Modèle!B14+Modèle!C14*H28 -> 2.1559656 | K28: =RAND() -> 0.33248127 | L28: =RAND() -> 0.67880917 | M28: =SQRT(-2*LN(MAX(K28,0.0000000001)))*COS(2*PI()*L28) -> -0.64189826 | N28: =Modèle!B23+Modèle!C23*M28 -> 0.60473374
A29: =RAND() -> 0.58238011 | B29: =RAND() -> 0.45619778 | C29: =SQRT(-2*LN(MAX(A29,0.0000000001)))*COS(2*PI()*B29) -> -1.0007052 | D29: =Modèle!B5+Modèle!C5*C29 -> 2.1964764 | F29: =RAND() -> 0.76580912 | G29: =RAND() -> 0.47093058 | H29: =SQRT(-2*LN(MAX(F29,0.0000000001)))*COS(2*PI()*G29) -> -0.71835862 | I29: =Modèle!B14+Modèle!C14*H29 -> 1.200043 | K29: =RAND() -> 0.14893331 | L29: =RAND() -> 0.47845622 | M29: =SQRT(-2*LN(MAX(K29,0.0000000001)))*COS(2*PI()*L29) -> -1.9336892 | N29: =Modèle!B23+Modèle!C23*M29 -> 0.18399741
A30: =RAND() -> 0.88194891 | B30: =RAND() -> 0.47274744 | C30: =SQRT(-2*LN(MAX(A30,0.0000000001)))*COS(2*PI()*B30) -> -0.49391034 | D30: =Modèle!B5+Modèle!C5*C30 -> 2.4290445 | F30: =RAND() -> 0.22361086 | G30: =RAND() -> 0.19083234 | H30: =SQRT(-2*LN(MAX(F30,0.0000000001)))*COS(2*PI()*G30) -> 0.62872816 | I30: =Modèle!B14+Modèle!C14*H30 -> 1.918175 | K30: =RAND() -> 0.74280104 | L30: =RAND() -> 0.61368162 | M30: =SQRT(-2*LN(MAX(K30,0.0000000001)))*COS(2*PI()*L30) -> -0.58264374 | N30: =Modèle!B23+Modèle!C23*M30 -> 0.62403293
A31: =RAND() -> 0.89737074 | B31: =RAND() -> 0.43570605 | C31: =SQRT(-2*LN(MAX(A31,0.0000000001)))*COS(2*PI()*B31) -> -0.42791428 | D31: =Modèle!B5+Modèle!C5*C31 -> 2.4593301 | F31: =RAND() -> 0.044660256 | G31: =RAND() -> 0.73313551 | H31: =SQRT(-2*LN(MAX(F31,0.0000000001)))*COS(2*PI()*G31) -> -0.26371965 | I31: =Modèle!B14+Modèle!C14*H31 -> 1.4424111 | K31: =RAND() -> 0.1318737 | L31: =RAND() -> 0.46528585 | M31: =SQRT(-2*LN(MAX(K31,0.0000000001)))*COS(2*PI()*L31) -> -1.9652216 | N31: =Modèle!B23+Modèle!C23*M31 -> 0.17372731
A32: =RAND() -> 0.24066312 | B32: =RAND() -> 0.92893796 | C32: =SQRT(-2*LN(MAX(A32,0.0000000001)))*COS(2*PI()*B32) -> 1.5223499 | D32: =Modèle!B5+Modèle!C5*C32 -> 3.3543064 | F32: =RAND() -> 0.47561848 | G32: =RAND() -> 0.0026552129 | H32: =SQRT(-2*LN(MAX(F32,0.0000000001)))*COS(2*PI()*G32) -> 1.2189606 | I32: =Modèle!B14+Modèle!C14*H32 -> 2.2328279 | K32: =RAND() -> 0.2218374 | L32: =RAND() -> 0.7331213 | M32: =SQRT(-2*LN(MAX(K32,0.0000000001)))*COS(2*PI()*L32) -> -0.18369804 | N32: =Modèle!B23+Modèle!C23*M32 -> 0.75396955
A33: =RAND() -> 0.043315129 | B33: =RAND() -> 0.99949363 | C33: =SQRT(-2*LN(MAX(A33,0.0000000001)))*COS(2*PI()*B33) -> 2.5056822 | D33: =Modèle!B5+Modèle!C5*C33 -> 3.8055575 | F33: =RAND() -> 0.2631204 | G33: =RAND() -> 0.71710839 | H33: =SQRT(-2*LN(MAX(F33,0.0000000001)))*COS(2*PI()*G33) -> -0.33531125 | I33: =Modèle!B14+Modèle!C14*H33 -> 1.4042456 | K33: =RAND() -> 0.90636471 | L33: =RAND() -> 0.35955605 | M33: =SQRT(-2*LN(MAX(K33,0.0000000001)))*COS(2*PI()*L33) -> -0.28169649 | N33: =Modèle!B23+Modèle!C23*M33 -> 0.72205145
A34: =RAND() -> 0.69943092 | B34: =RAND() -> 0.58020999 | C34: =SQRT(-2*LN(MAX(A34,0.0000000001)))*COS(2*PI()*B34) -> -0.74043423 | D34: =Modèle!B5+Modèle!C5*C34 -> 2.3159147 | F34: =RAND() -> 0.6619374 | G34: =RAND() -> 0.24814872 | H34: =SQRT(-2*LN(MAX(F34,0.0000000001)))*COS(2*PI()*G34) -> 0.01056606 | I34: =Modèle!B14+Modèle!C14*H34 -> 1.5886328 | K34: =RAND() -> 0.055001091 | L34: =RAND() -> 0.73573967 | M34: =SQRT(-2*LN(MAX(K34,0.0000000001)))*COS(2*PI()*L34) -> -0.21551249 | N34: =Modèle!B23+Modèle!C23*M34 -> 0.74360758
A35: =RAND() -> 0.89146576 | B35: =RAND() -> 0.0080914651 | C35: =SQRT(-2*LN(MAX(A35,0.0000000001)))*COS(2*PI()*B35) -> 0.47873072 | D35: =Modèle!B5+Modèle!C5*C35 -> 2.8753895 | F35: =RAND() -> 0.97637034 | G35: =RAND() -> 0.058654912 | H35: =SQRT(-2*LN(MAX(F35,0.0000000001)))*COS(2*PI()*G35) -> 0.20400873 | I35: =Modèle!B14+Modèle!C14*H35 -> 1.6917571 | K35: =RAND() -> 0.14348954 | L35: =RAND() -> 0.25010903 | M35: =SQRT(-2*LN(MAX(K35,0.0000000001)))*COS(2*PI()*L35) -> -0.0013499098 | N35: =Modèle!B23+Modèle!C23*M35 -> 0.81336033
A36: =RAND() -> 0.8006424 | B36: =RAND() -> 0.29522475 | C36: =SQRT(-2*LN(MAX(A36,0.0000000001)))*COS(2*PI()*B36) -> -0.18694784 | D36: =Modèle!B5+Modèle!C5*C36 -> 2.5699096 | F36: =RAND() -> 0.83858997 | G36: =RAND() -> 0.27655205 | H36: =SQRT(-2*LN(MAX(F36,0.0000000001)))*COS(2*PI()*G36) -> -0.098531241 | I36: =Modèle!B14+Modèle!C14*H36 -> 1.530473 | K36: =RAND() -> 0.25906307 | L36: =RAND() -> 0.82931874 | M36: =SQRT(-2*LN(MAX(K36,0.0000000001)))*COS(2*PI()*L36) -> 0.78563014 | N36: =Modèle!B23+Modèle!C23*M36 -> 1.0696797
A37: =RAND() -> 0.8686291 | B37: =RAND() -> 0.39623257 | C37: =SQRT(-2*LN(MAX(A37,0.0000000001)))*COS(2*PI()*B37) -> -0.42186839 | D37: =Modèle!B5+Modèle!C5*C37 -> 2.4621046 | F37: =RAND() -> 0.12640682 | G37: =RAND() -> 0.68564364 | H37: =SQRT(-2*LN(MAX(F37,0.0000000001)))*COS(2*PI()*G37) -> -0.80017958 | I37: =Modèle!B14+Modèle!C14*H37 -> 1.1564243 | K37: =RAND() -> 0.29386106 | L37: =RAND() -> 0.76741314 | M37: =SQRT(-2*LN(MAX(K37,0.0000000001)))*COS(2*PI()*L37) -> 0.17088772 | N37: =Modèle!B23+Modèle!C23*M37 -> 0.86945813
A38: =RAND() -> 0.10363978 | B38: =RAND() -> 0.7296231 | C38: =SQRT(-2*LN(MAX(A38,0.0000000001)))*COS(2*PI()*B38) -> -0.27186647 | D38: =Modèle!B5+Modèle!C5*C38 -> 2.5309405 | F38: =RAND() -> 0.64826675 | G38: =RAND() -> 0.948528 | H38: =SQRT(-2*LN(MAX(F38,0.0000000001)))*COS(2*PI()*G38) -> 0.88280878 | I38: =Modèle!B14+Modèle!C14*H38 -> 2.0536254 | K38: =RAND() -> 0.1305167 | L38: =RAND() -> 0.82258859 | M38: =SQRT(-2*LN(MAX(K38,0.0000000001)))*COS(2*PI()*L38) -> 0.88882598 | N38: =Modèle!B23+Modèle!C23*M38 -> 1.1032906
A39: =RAND() -> 0.27114213 | B39: =RAND() -> 0.33494194 | C39: =SQRT(-2*LN(MAX(A39,0.0000000001)))*COS(2*PI()*B39) -> -0.82190953 | D39: =Modèle!B5+Modèle!C5*C39 -> 2.2785257 | F39: =RAND() -> 0.63667072 | G39: =RAND() -> 0.5990043 | H39: =SQRT(-2*LN(MAX(F39,0.0000000001)))*COS(2*PI()*G39) -> -0.77226061 | I39: =Modèle!B14+Modèle!C14*H39 -> 1.1713079 | K39: =RAND() -> 0.97992905 | L39: =RAND() -> 0.48486411 | M39: =SQRT(-2*LN(MAX(K39,0.0000000001)))*COS(2*PI()*L39) -> -0.20046088 | N39: =Modèle!B23+Modèle!C23*M39 -> 0.74850989
A40: =RAND() -> 0.13238152 | B40: =RAND() -> 0.56154312 | C40: =SQRT(-2*LN(MAX(A40,0.0000000001)))*COS(2*PI()*B40) -> -1.8625181 | D40: =Modèle!B5+Modèle!C5*C40 -> 1.8009904 | F40: =RAND() -> 0.43412505 | G40: =RAND() -> 0.85634845 | H40: =SQRT(-2*LN(MAX(F40,0.0000000001)))*COS(2*PI()*G40) -> 0.80039646 | I40: =Modèle!B14+Modèle!C14*H40 -> 2.0096914 | K40: =RAND() -> 0.47083669 | L40: =RAND() -> 0.08822263 | M40: =SQRT(-2*LN(MAX(K40,0.0000000001)))*COS(2*PI()*L40) -> 1.0436 | N40: =Modèle!B23+Modèle!C23*M40 -> 1.1537005
A41: =RAND() -> 0.79060502 | B41: =RAND() -> 0.72416149 | C41: =SQRT(-2*LN(MAX(A41,0.0000000001)))*COS(2*PI()*B41) -> -0.11080179 | D41: =Modèle!B5+Modèle!C5*C41 -> 2.6048531 | F41: =RAND() -> 0.67747032 | G41: =RAND() -> 0.79082232 | H41: =SQRT(-2*LN(MAX(F41,0.0000000001)))*COS(2*PI()*G41) -> 0.22387843 | I41: =Modèle!B14+Modèle!C14*H41 -> 1.7023496 | K41: =RAND() -> 0.96106728 | L41: =RAND() -> 0.62534051 | M41: =SQRT(-2*LN(MAX(K41,0.0000000001)))*COS(2*PI()*L41) -> -0.19884904 | N41: =Modèle!B23+Modèle!C23*M41 -> 0.74903487
...

Sheet Tableau de bord
A1: Catégorie | B1: n (nettoyé) | C1: Moyenne (j) | D1: Écart-type (j) | E1: Modèle retenu (référence) | F1: KPI recalculé (%) | G1: KPI référence HTML (%) | H1: Monte Carlo médiane (j)
A2: Fort | B2: ='Nettoyage IQR'!H5 -> 25 | C2: =ROUND('Nettoyage IQR'!I5,3) -> 2.637 | D2: =ROUND('Nettoyage IQR'!J5,3) -> 0.322 | E2: Log-Normale | F2: =KPI!C2 -> 77.3 | G2: =KPI!D2 -> 77 | H2: =ROUND('Monte Carlo'!E1007,3) -> 2.633
A3: Moyen | B3: ='Nettoyage IQR'!H6 -> 72 | C3: =ROUND('Nettoyage IQR'!I6,3) -> 1.585 | D3: =ROUND('Nettoyage IQR'!J6,3) -> 0.548 | E3: Log-Normale | F3: =KPI!C3 -> 78.3 | G3: =KPI!D3 -> 78 | H3: =ROUND('Monte Carlo'!E1008,3) -> 1.554
A4: Faible | B4: ='Nettoyage IQR'!H7 -> 229 | C4: =ROUND('Nettoyage IQR'!I7,3) -> 0.803 | D4: =ROUND('Nettoyage IQR'!J7,3) -> 0.299 | E4: Gamma | F4: =KPI!C4 -> 71.6 | G4: =KPI!D4 -> 72 | H4: =ROUND('Monte Carlo'!E1009,3) -> 0.806
A6: Synthèse — toutes les valeurs sont des formules référençant les autres onglets (aucune valeur recopiée en dur), sauf "Modèle retenu" qui est la référence BEST_MODEL du HTML (non recalculée, voir onglet Modèle).
